BEGIN:VCALENDAR
VERSION:2.0
PRODID:-//Blake Farms - ECPv6.15.16.1//NONSGML v1.0//EN
CALSCALE:GREGORIAN
METHOD:PUBLISH
X-ORIGINAL-URL:https://blakefarms.com
X-WR-CALDESC:Events for Blake Farms
REFRESH-INTERVAL;VALUE=DURATION:PT1H
X-Robots-Tag:noindex
X-PUBLISHED-TTL:PT1H
BEGIN:VTIMEZONE
TZID:America/Detroit
BEGIN:DAYLIGHT
TZOFFSETFROM:-0500
TZOFFSETTO:-0400
TZNAME:EDT
DTSTART:20240310T070000
END:DAYLIGHT
BEGIN:STANDARD
TZOFFSETFROM:-0400
TZOFFSETTO:-0500
TZNAME:EST
DTSTART:20241103T060000
END:STANDARD
BEGIN:DAYLIGHT
TZOFFSETFROM:-0500
TZOFFSETTO:-0400
TZNAME:EDT
DTSTART:20250309T070000
END:DAYLIGHT
BEGIN:STANDARD
TZOFFSETFROM:-0400
TZOFFSETTO:-0500
TZNAME:EST
DTSTART:20251102T060000
END:STANDARD
BEGIN:DAYLIGHT
TZOFFSETFROM:-0500
TZOFFSETTO:-0400
TZNAME:EDT
DTSTART:20260308T070000
END:DAYLIGHT
BEGIN:STANDARD
TZOFFSETFROM:-0400
TZOFFSETTO:-0500
TZNAME:EST
DTSTART:20261101T060000
END:STANDARD
BEGIN:DAYLIGHT
TZOFFSETFROM:-0500
TZOFFSETTO:-0400
TZNAME:EDT
DTSTART:20270314T070000
END:DAYLIGHT
BEGIN:STANDARD
TZOFFSETFROM:-0400
TZOFFSETTO:-0500
TZNAME:EST
DTSTART:20271107T060000
END:STANDARD
END:VTIMEZONE
BEGIN:VEVENT
DTSTART;VALUE=DATE:20251121
DTEND;VALUE=DATE:20260302
DTSTAMP:20260424T045924
CREATED:20251022T185649Z
LAST-MODIFIED:20251205T180305Z
UID:10000486-1763683200-1772409599@blakefarms.com
SUMMARY:Igloo Dining
DESCRIPTION:Little Gardeners WorkshopMay 9th |  10:00 am – 12:00 pm | Blake’s Backyard (Almont) Join us for our third class within our new DIY series- create something special together! In this hands-on Little Gardeners Workshop\, you and your child will decorate your own terracotta pot-perfect for brightening up your porch\, patio\, or garden. Each registration includes one 4-inch terracotta pot and all supplies you’ll need to bring your creation to life.  Once your masterpiece is complete\, the fun doesn’t stop there – let the learning begin! Dive into hands-on activities where will gardeners will explore the plant life cycle\, take home new knowledge to help their creations grow\, and even pet and hold our friendly rabbit friends.    Event Details: Hosted at Blake’s Backyard\, this guided experience is perfect for all skill levels – no green thumb required!  Date: Saturday\, May 9th  Time: 10:00 am – 12:00 pm  Location: 5600 Van Dyke Rd\, Almont\, MI 48003 Bonus Perk: As part of the experience\, enjoy a $2 discount on plant purchase at Blake’s Backyard for use in styling your creation. 								\n				\n				\n				\n					\n	Reserve Your Tickets
URL:https://blakefarms.com/event/igloo-dining/
LOCATION:Blake’s Backyard\, 5590 Van Dyke\, Almont\, MI\, 48003\, United States
ATTACH;FMTTYPE=image/jpeg:https://blakefarms.com/wp-content/uploads/2025/12/TR_2025-Igloo-Dining-Night-018-web2-scaled.jpg
END:VEVENT
BEGIN:VEVENT
DTSTART;TZID=America/Detroit:20260307T100000
DTEND;TZID=America/Detroit:20260308T170000
DTSTAMP:20260424T045924
CREATED:20260204T171008Z
LAST-MODIFIED:20260209T144626Z
UID:10000513-1772877600-1772989200@blakefarms.com
SUMMARY:Blake's Garden & Craft Fair
DESCRIPTION:Little Gardeners WorkshopMay 9th |  10:00 am – 12:00 pm | Blake’s Backyard (Almont) Join us for our third class within our new DIY series- create something special together! In this hands-on Little Gardeners Workshop\, you and your child will decorate your own terracotta pot-perfect for brightening up your porch\, patio\, or garden. Each registration includes one 4-inch terracotta pot and all supplies you’ll need to bring your creation to life.  Once your masterpiece is complete\, the fun doesn’t stop there – let the learning begin! Dive into hands-on activities where will gardeners will explore the plant life cycle\, take home new knowledge to help their creations grow\, and even pet and hold our friendly rabbit friends.    Event Details: Hosted at Blake’s Backyard\, this guided experience is perfect for all skill levels – no green thumb required!  Date: Saturday\, May 9th  Time: 10:00 am – 12:00 pm  Location: 5600 Van Dyke Rd\, Almont\, MI 48003 Bonus Perk: As part of the experience\, enjoy a $2 discount on plant purchase at Blake’s Backyard for use in styling your creation. 								\n				\n				\n				\n					\n	Reserve Your Tickets
URL:https://blakefarms.com/event/blakes-garden-craft-fair/
LOCATION:Blake’s Orchard & Cider Mill\, 17985 Armada Center Rd\, Armada\, MI\, 48005\, United States
CATEGORIES:Blake's Orchard & Cider Mill,Festivals
ATTACH;FMTTYPE=image/jpeg:https://blakefarms.com/wp-content/uploads/2026/02/iStock-1143021718-scaled.jpg
END:VEVENT
BEGIN:VEVENT
DTSTART;TZID=America/Detroit:20260313T180000
DTEND;TZID=America/Detroit:20260313T210000
DTSTAMP:20260424T045924
CREATED:20260305T184416Z
LAST-MODIFIED:20260310T162638Z
UID:10000519-1773424800-1773435600@blakefarms.com
SUMMARY:Imperial Blush Launch Party
DESCRIPTION:Little Gardeners WorkshopMay 9th |  10:00 am – 12:00 pm | Blake’s Backyard (Almont) Join us for our third class within our new DIY series- create something special together! In this hands-on Little Gardeners Workshop\, you and your child will decorate your own terracotta pot-perfect for brightening up your porch\, patio\, or garden. Each registration includes one 4-inch terracotta pot and all supplies you’ll need to bring your creation to life.  Once your masterpiece is complete\, the fun doesn’t stop there – let the learning begin! Dive into hands-on activities where will gardeners will explore the plant life cycle\, take home new knowledge to help their creations grow\, and even pet and hold our friendly rabbit friends.    Event Details: Hosted at Blake’s Backyard\, this guided experience is perfect for all skill levels – no green thumb required!  Date: Saturday\, May 9th  Time: 10:00 am – 12:00 pm  Location: 5600 Van Dyke Rd\, Almont\, MI 48003 Bonus Perk: As part of the experience\, enjoy a $2 discount on plant purchase at Blake’s Backyard for use in styling your creation. 								\n				\n				\n				\n					\n	Reserve Your Tickets
URL:https://blakefarms.com/event/imperial-blush-launch-party/
LOCATION:Blake’s Tasting Room\, 17985 Armada Center Road\, Armada\, MI\, 48005\, United States
CATEGORIES:Blake's Tasting Room
ATTACH;FMTTYPE=image/jpeg:https://blakefarms.com/wp-content/uploads/2026/03/BBY_2026-Feb-23-Drink-Shots-004-copy-scaled.jpg
END:VEVENT
BEGIN:VEVENT
DTSTART;TZID=America/Detroit:20260315T110000
DTEND;TZID=America/Detroit:20260315T170000
DTSTAMP:20260424T045924
CREATED:20250206T204827Z
LAST-MODIFIED:20260304T171944Z
UID:10000074-1773572400-1773594000@blakefarms.com
SUMMARY:SOLD OUT: Boozy Book Fair
DESCRIPTION:Little Gardeners WorkshopMay 9th |  10:00 am – 12:00 pm | Blake’s Backyard (Almont) Join us for our third class within our new DIY series- create something special together! In this hands-on Little Gardeners Workshop\, you and your child will decorate your own terracotta pot-perfect for brightening up your porch\, patio\, or garden. Each registration includes one 4-inch terracotta pot and all supplies you’ll need to bring your creation to life.  Once your masterpiece is complete\, the fun doesn’t stop there – let the learning begin! Dive into hands-on activities where will gardeners will explore the plant life cycle\, take home new knowledge to help their creations grow\, and even pet and hold our friendly rabbit friends.    Event Details: Hosted at Blake’s Backyard\, this guided experience is perfect for all skill levels – no green thumb required!  Date: Saturday\, May 9th  Time: 10:00 am – 12:00 pm  Location: 5600 Van Dyke Rd\, Almont\, MI 48003 Bonus Perk: As part of the experience\, enjoy a $2 discount on plant purchase at Blake’s Backyard for use in styling your creation. 								\n				\n				\n				\n					\n	Reserve Your Tickets
URL:https://blakefarms.com/event/boozy-book-fair/
LOCATION:Blake’s Backyard\, 5590 Van Dyke\, Almont\, MI\, 48003\, United States
CATEGORIES:Blake's Backyard
ATTACH;FMTTYPE=image/jpeg:https://blakefarms.com/wp-content/uploads/2025/03/BBY_2025-Books-Brews-009-web.jpg
END:VEVENT
BEGIN:VEVENT
DTSTART;TZID=America/Detroit:20260320T183000
DTEND;TZID=America/Detroit:20260320T200000
DTSTAMP:20260424T045924
CREATED:20260224T194007Z
LAST-MODIFIED:20260304T171834Z
UID:10000516-1774031400-1774036800@blakefarms.com
SUMMARY:Artisan Sourdough Workshop (Almont)
DESCRIPTION:Little Gardeners WorkshopMay 9th |  10:00 am – 12:00 pm | Blake’s Backyard (Almont) Join us for our third class within our new DIY series- create something special together! In this hands-on Little Gardeners Workshop\, you and your child will decorate your own terracotta pot-perfect for brightening up your porch\, patio\, or garden. Each registration includes one 4-inch terracotta pot and all supplies you’ll need to bring your creation to life.  Once your masterpiece is complete\, the fun doesn’t stop there – let the learning begin! Dive into hands-on activities where will gardeners will explore the plant life cycle\, take home new knowledge to help their creations grow\, and even pet and hold our friendly rabbit friends.    Event Details: Hosted at Blake’s Backyard\, this guided experience is perfect for all skill levels – no green thumb required!  Date: Saturday\, May 9th  Time: 10:00 am – 12:00 pm  Location: 5600 Van Dyke Rd\, Almont\, MI 48003 Bonus Perk: As part of the experience\, enjoy a $2 discount on plant purchase at Blake’s Backyard for use in styling your creation. 								\n				\n				\n				\n					\n	Reserve Your Tickets
URL:https://blakefarms.com/event/artisan-sourdough-workshop/
LOCATION:Blake’s Backyard\, 5590 Van Dyke\, Almont\, MI\, 48003\, United States
CATEGORIES:Blake's Backyard
ATTACH;FMTTYPE=image/jpeg:https://blakefarms.com/wp-content/uploads/2026/02/642548789_1498633975600991_677325415132657713_n.jpg
END:VEVENT
BEGIN:VEVENT
DTSTART;TZID=America/Detroit:20260321T100000
DTEND;TZID=America/Detroit:20260321T180000
DTSTAMP:20260424T045924
CREATED:20260305T174750Z
LAST-MODIFIED:20260305T202808Z
UID:10000518-1774087200-1774116000@blakefarms.com
SUMMARY:TR Takeover: K-Pop
DESCRIPTION:Little Gardeners WorkshopMay 9th |  10:00 am – 12:00 pm | Blake’s Backyard (Almont) Join us for our third class within our new DIY series- create something special together! In this hands-on Little Gardeners Workshop\, you and your child will decorate your own terracotta pot-perfect for brightening up your porch\, patio\, or garden. Each registration includes one 4-inch terracotta pot and all supplies you’ll need to bring your creation to life.  Once your masterpiece is complete\, the fun doesn’t stop there – let the learning begin! Dive into hands-on activities where will gardeners will explore the plant life cycle\, take home new knowledge to help their creations grow\, and even pet and hold our friendly rabbit friends.    Event Details: Hosted at Blake’s Backyard\, this guided experience is perfect for all skill levels – no green thumb required!  Date: Saturday\, May 9th  Time: 10:00 am – 12:00 pm  Location: 5600 Van Dyke Rd\, Almont\, MI 48003 Bonus Perk: As part of the experience\, enjoy a $2 discount on plant purchase at Blake’s Backyard for use in styling your creation. 								\n				\n				\n				\n					\n	Reserve Your Tickets
URL:https://blakefarms.com/event/tr-takeover-kpop/
LOCATION:Blake’s Tasting Room\, 17985 Armada Center Road\, Armada\, MI\, 48005\, United States
ATTACH;FMTTYPE=image/jpeg:https://blakefarms.com/wp-content/uploads/2024/07/TR-1.jpg
END:VEVENT
BEGIN:VEVENT
DTSTART;TZID=America/Detroit:20260322T130000
DTEND;TZID=America/Detroit:20260322T160000
DTSTAMP:20260424T045924
CREATED:20260130T182801Z
LAST-MODIFIED:20260417T174705Z
UID:10000512-1774184400-1774195200@blakefarms.com
SUMMARY:Dog Dayze: Leader Dogs for the Blind x Blake's
DESCRIPTION:Little Gardeners WorkshopMay 9th |  10:00 am – 12:00 pm | Blake’s Backyard (Almont) Join us for our third class within our new DIY series- create something special together! In this hands-on Little Gardeners Workshop\, you and your child will decorate your own terracotta pot-perfect for brightening up your porch\, patio\, or garden. Each registration includes one 4-inch terracotta pot and all supplies you’ll need to bring your creation to life.  Once your masterpiece is complete\, the fun doesn’t stop there – let the learning begin! Dive into hands-on activities where will gardeners will explore the plant life cycle\, take home new knowledge to help their creations grow\, and even pet and hold our friendly rabbit friends.    Event Details: Hosted at Blake’s Backyard\, this guided experience is perfect for all skill levels – no green thumb required!  Date: Saturday\, May 9th  Time: 10:00 am – 12:00 pm  Location: 5600 Van Dyke Rd\, Almont\, MI 48003 Bonus Perk: As part of the experience\, enjoy a $2 discount on plant purchase at Blake’s Backyard for use in styling your creation. 								\n				\n				\n				\n					\n	Reserve Your Tickets
URL:https://blakefarms.com/event/dog-dayze/
LOCATION:Blake’s Orchard & Cider Mill\, 17985 Armada Center Rd\, Armada\, MI\, 48005\, United States
CATEGORIES:Blake's Orchard & Cider Mill
ATTACH;FMTTYPE=image/jpeg:https://blakefarms.com/wp-content/uploads/2025/02/BF_2025-Dog-Dayze-16x9-1.jpg
END:VEVENT
BEGIN:VEVENT
DTSTART;TZID=America/Detroit:20260326T180000
DTEND;TZID=America/Detroit:20260326T200000
DTSTAMP:20260424T045924
CREATED:20260313T205428Z
LAST-MODIFIED:20260313T211336Z
UID:10000521-1774548000-1774555200@blakefarms.com
SUMMARY:DIY Doormat Workshop
DESCRIPTION:Little Gardeners WorkshopMay 9th |  10:00 am – 12:00 pm | Blake’s Backyard (Almont) Join us for our third class within our new DIY series- create something special together! In this hands-on Little Gardeners Workshop\, you and your child will decorate your own terracotta pot-perfect for brightening up your porch\, patio\, or garden. Each registration includes one 4-inch terracotta pot and all supplies you’ll need to bring your creation to life.  Once your masterpiece is complete\, the fun doesn’t stop there – let the learning begin! Dive into hands-on activities where will gardeners will explore the plant life cycle\, take home new knowledge to help their creations grow\, and even pet and hold our friendly rabbit friends.    Event Details: Hosted at Blake’s Backyard\, this guided experience is perfect for all skill levels – no green thumb required!  Date: Saturday\, May 9th  Time: 10:00 am – 12:00 pm  Location: 5600 Van Dyke Rd\, Almont\, MI 48003 Bonus Perk: As part of the experience\, enjoy a $2 discount on plant purchase at Blake’s Backyard for use in styling your creation. 								\n				\n				\n				\n					\n	Reserve Your Tickets
URL:https://blakefarms.com/event/diy-doormat-workshop/
LOCATION:Blake’s Backyard\, 5590 Van Dyke\, Almont\, MI\, 48003\, United States
CATEGORIES:Blake's Backyard
ATTACH;FMTTYPE=image/jpeg:https://blakefarms.com/wp-content/uploads/2026/03/BBY_DIY_Doormat-Workshop-TV-copy-scaled.jpg
END:VEVENT
BEGIN:VEVENT
DTSTART;TZID=America/Detroit:20260328T100000
DTEND;TZID=America/Detroit:20260329T150000
DTSTAMP:20260424T045924
CREATED:20260209T165239Z
LAST-MODIFIED:20260211T210016Z
UID:10000514-1774692000-1774796400@blakefarms.com
SUMMARY:Easter Egg-a-Palooza (Lyon Twp)
DESCRIPTION:Little Gardeners WorkshopMay 9th |  10:00 am – 12:00 pm | Blake’s Backyard (Almont) Join us for our third class within our new DIY series- create something special together! In this hands-on Little Gardeners Workshop\, you and your child will decorate your own terracotta pot-perfect for brightening up your porch\, patio\, or garden. Each registration includes one 4-inch terracotta pot and all supplies you’ll need to bring your creation to life.  Once your masterpiece is complete\, the fun doesn’t stop there – let the learning begin! Dive into hands-on activities where will gardeners will explore the plant life cycle\, take home new knowledge to help their creations grow\, and even pet and hold our friendly rabbit friends.    Event Details: Hosted at Blake’s Backyard\, this guided experience is perfect for all skill levels – no green thumb required!  Date: Saturday\, May 9th  Time: 10:00 am – 12:00 pm  Location: 5600 Van Dyke Rd\, Almont\, MI 48003 Bonus Perk: As part of the experience\, enjoy a $2 discount on plant purchase at Blake’s Backyard for use in styling your creation. 								\n				\n				\n				\n					\n	Reserve Your Tickets
URL:https://blakefarms.com/event/lyon-twp-easter/
LOCATION:Lyon Twp\, 61475 Silver Lake Road\, South Lyon\, 48178\, United States
CATEGORIES:Children Events,South Lyon
ATTACH;FMTTYPE=image/jpeg:https://blakefarms.com/wp-content/uploads/2025/03/BF-2021-easter-egg-hunt-088-copy.jpg
END:VEVENT
BEGIN:VEVENT
DTSTART;TZID=America/Detroit:20260328T100000
DTEND;TZID=America/Detroit:20260404T150000
DTSTAMP:20260424T045924
CREATED:20250306T224721Z
LAST-MODIFIED:20260211T205800Z
UID:10000086-1774692000-1775314800@blakefarms.com
SUMMARY:Easter Egg-Stravaganza (Blake's Orchard & Cider Mill)
DESCRIPTION:Little Gardeners WorkshopMay 9th |  10:00 am – 12:00 pm | Blake’s Backyard (Almont) Join us for our third class within our new DIY series- create something special together! In this hands-on Little Gardeners Workshop\, you and your child will decorate your own terracotta pot-perfect for brightening up your porch\, patio\, or garden. Each registration includes one 4-inch terracotta pot and all supplies you’ll need to bring your creation to life.  Once your masterpiece is complete\, the fun doesn’t stop there – let the learning begin! Dive into hands-on activities where will gardeners will explore the plant life cycle\, take home new knowledge to help their creations grow\, and even pet and hold our friendly rabbit friends.    Event Details: Hosted at Blake’s Backyard\, this guided experience is perfect for all skill levels – no green thumb required!  Date: Saturday\, May 9th  Time: 10:00 am – 12:00 pm  Location: 5600 Van Dyke Rd\, Almont\, MI 48003 Bonus Perk: As part of the experience\, enjoy a $2 discount on plant purchase at Blake’s Backyard for use in styling your creation. 								\n				\n				\n				\n					\n	Reserve Your Tickets
URL:https://blakefarms.com/event/bocm-easter-egg-stravaganza/
LOCATION:Blake’s Orchard & Cider Mill\, 17985 Armada Center Rd\, Armada\, MI\, 48005\, United States
CATEGORIES:Blake's Orchard & Cider Mill,Children Events
ATTACH;FMTTYPE=image/jpeg:https://blakefarms.com/wp-content/uploads/2025/03/easter25WIP.jpg
END:VEVENT
BEGIN:VEVENT
DTSTART;TZID=America/Detroit:20260328T100000
DTEND;TZID=America/Detroit:20260404T150000
DTSTAMP:20260424T045924
CREATED:20250312T012858Z
LAST-MODIFIED:20260325T122655Z
UID:10000087-1774692000-1775314800@blakefarms.com
SUMMARY:A Hoppin' Good Time | Blake's Backyard (Almont)
DESCRIPTION:Little Gardeners WorkshopMay 9th |  10:00 am – 12:00 pm | Blake’s Backyard (Almont) Join us for our third class within our new DIY series- create something special together! In this hands-on Little Gardeners Workshop\, you and your child will decorate your own terracotta pot-perfect for brightening up your porch\, patio\, or garden. Each registration includes one 4-inch terracotta pot and all supplies you’ll need to bring your creation to life.  Once your masterpiece is complete\, the fun doesn’t stop there – let the learning begin! Dive into hands-on activities where will gardeners will explore the plant life cycle\, take home new knowledge to help their creations grow\, and even pet and hold our friendly rabbit friends.    Event Details: Hosted at Blake’s Backyard\, this guided experience is perfect for all skill levels – no green thumb required!  Date: Saturday\, May 9th  Time: 10:00 am – 12:00 pm  Location: 5600 Van Dyke Rd\, Almont\, MI 48003 Bonus Perk: As part of the experience\, enjoy a $2 discount on plant purchase at Blake’s Backyard for use in styling your creation. 								\n				\n				\n				\n					\n	Reserve Your Tickets
URL:https://blakefarms.com/event/hoppin-good-time/
LOCATION:Blake’s Backyard\, 5590 Van Dyke\, Almont\, MI\, 48003\, United States
CATEGORIES:Blake's Backyard,Children Events
ATTACH;FMTTYPE=image/jpeg:https://blakefarms.com/wp-content/uploads/2026/03/BBY_2025-Hoppin-Good-Time-00052-scaled.jpg
END:VEVENT
END:VCALENDAR