BEGIN:VCALENDAR
VERSION:2.0
PRODID:-//Blake Farms - ECPv6.15.16.1//NONSGML v1.0//EN
CALSCALE:GREGORIAN
METHOD:PUBLISH
X-WR-CALNAME:Blake Farms
X-ORIGINAL-URL:https://blakefarms.com
X-WR-CALDESC:Events for Blake Farms
REFRESH-INTERVAL;VALUE=DURATION:PT1H
X-Robots-Tag:noindex
X-PUBLISHED-TTL:PT1H
BEGIN:VTIMEZONE
TZID:America/Detroit
BEGIN:DAYLIGHT
TZOFFSETFROM:-0500
TZOFFSETTO:-0400
TZNAME:EDT
DTSTART:20230312T070000
END:DAYLIGHT
BEGIN:STANDARD
TZOFFSETFROM:-0400
TZOFFSETTO:-0500
TZNAME:EST
DTSTART:20231105T060000
END:STANDARD
BEGIN:DAYLIGHT
TZOFFSETFROM:-0500
TZOFFSETTO:-0400
TZNAME:EDT
DTSTART:20240310T070000
END:DAYLIGHT
BEGIN:STANDARD
TZOFFSETFROM:-0400
TZOFFSETTO:-0500
TZNAME:EST
DTSTART:20241103T060000
END:STANDARD
BEGIN:DAYLIGHT
TZOFFSETFROM:-0500
TZOFFSETTO:-0400
TZNAME:EDT
DTSTART:20250309T070000
END:DAYLIGHT
BEGIN:STANDARD
TZOFFSETFROM:-0400
TZOFFSETTO:-0500
TZNAME:EST
DTSTART:20251102T060000
END:STANDARD
END:VTIMEZONE
BEGIN:VEVENT
DTSTART;TZID=America/Detroit:20240907T060000
DTEND;TZID=America/Detroit:20240907T130000
DTSTAMP:20260421T193354
CREATED:20240804T093935Z
LAST-MODIFIED:20240806T083805Z
UID:10000034-1725688800-1725714000@blakefarms.com
SUMMARY:Dino Dayze
DESCRIPTION:February 1st | Blake’s Orchard & Cider Mill\npurchase tickets \nMother Son Country Dance\nPut on those flannels\, cowboy boots and enjoy an unforgettable night on the farm. This is a two hour\, country-themed dance for mothers and their sons. Tickets include event attendance with music and dancing\, food and memories that will last a lifetime.  \n*Children 12 years old and under will be in attendance.  \nDate: Saturday\, February 1st  \nTime: 5:00 PM – 7:00 PM  \nLocation: Blake’s Orchard & Cider Mill\, 17985 Armada Center Road\, MI 48005 \nInclusions:  \n\nDJ & Dance Area\nPhoto Opportunities\nDinner Buffet- Salad\, Pasta\, Chicken Tenders\, Desserts and non-alcoholic beverages\nDonuts & Cider\n\nPrice: \nParent & Child- $45.00 \nAdditional Child- $10.00
URL:https://blakefarms.com/event/dino-dayze/2024-09-07/
LOCATION:Blake’s Orchard & Cider Mill\, 17985 Armada Center Rd\, Armada\, MI\, 48005\, United States
CATEGORIES:Blake's Orchard & Cider Mill,Children Events
ATTACH;FMTTYPE=image/jpeg:https://blakefarms.com/wp-content/uploads/2024/08/BF_2023-Dino-Dayze-12-scaled-e1722750114710.jpg
END:VEVENT
BEGIN:VEVENT
DTSTART;TZID=America/Detroit:20240907T060000
DTEND;TZID=America/Detroit:20240907T110000
DTSTAMP:20260421T193354
CREATED:20240716T205715Z
LAST-MODIFIED:20240716T221219Z
UID:10000025-1725688800-1725706800@blakefarms.com
SUMMARY:Farm Fresh Tours
DESCRIPTION:February 1st | Blake’s Orchard & Cider Mill\npurchase tickets \nMother Son Country Dance\nPut on those flannels\, cowboy boots and enjoy an unforgettable night on the farm. This is a two hour\, country-themed dance for mothers and their sons. Tickets include event attendance with music and dancing\, food and memories that will last a lifetime.  \n*Children 12 years old and under will be in attendance.  \nDate: Saturday\, February 1st  \nTime: 5:00 PM – 7:00 PM  \nLocation: Blake’s Orchard & Cider Mill\, 17985 Armada Center Road\, MI 48005 \nInclusions:  \n\nDJ & Dance Area\nPhoto Opportunities\nDinner Buffet- Salad\, Pasta\, Chicken Tenders\, Desserts and non-alcoholic beverages\nDonuts & Cider\n\nPrice: \nParent & Child- $45.00 \nAdditional Child- $10.00
URL:https://blakefarms.com/event/farm-fresh-tours-3/2024-09-07/
LOCATION:Blake’s Orchard & Cider Mill\, 17985 Armada Center Rd\, Armada\, MI\, 48005\, United States
CATEGORIES:Blake's Orchard & Cider Mill
ATTACH;FMTTYPE=image/png:https://blakefarms.com/wp-content/uploads/2024/05/Screen-Shot-2024-05-26-at-3.48.59-AM-e1716709862833.png
END:VEVENT
BEGIN:VEVENT
DTSTART;TZID=America/Detroit:20240902T060000
DTEND;TZID=America/Detroit:20240902T130000
DTSTAMP:20260421T193354
CREATED:20240804T093935Z
LAST-MODIFIED:20240806T083805Z
UID:10000030-1725256800-1725282000@blakefarms.com
SUMMARY:Dino Dayze
DESCRIPTION:February 1st | Blake’s Orchard & Cider Mill\npurchase tickets \nMother Son Country Dance\nPut on those flannels\, cowboy boots and enjoy an unforgettable night on the farm. This is a two hour\, country-themed dance for mothers and their sons. Tickets include event attendance with music and dancing\, food and memories that will last a lifetime.  \n*Children 12 years old and under will be in attendance.  \nDate: Saturday\, February 1st  \nTime: 5:00 PM – 7:00 PM  \nLocation: Blake’s Orchard & Cider Mill\, 17985 Armada Center Road\, MI 48005 \nInclusions:  \n\nDJ & Dance Area\nPhoto Opportunities\nDinner Buffet- Salad\, Pasta\, Chicken Tenders\, Desserts and non-alcoholic beverages\nDonuts & Cider\n\nPrice: \nParent & Child- $45.00 \nAdditional Child- $10.00
URL:https://blakefarms.com/event/dino-dayze/2024-09-02/
LOCATION:Blake’s Orchard & Cider Mill\, 17985 Armada Center Rd\, Armada\, MI\, 48005\, United States
CATEGORIES:Blake's Orchard & Cider Mill,Children Events
ATTACH;FMTTYPE=image/jpeg:https://blakefarms.com/wp-content/uploads/2024/08/BF_2023-Dino-Dayze-12-scaled-e1722750114710.jpg
END:VEVENT
BEGIN:VEVENT
DTSTART;TZID=America/Detroit:20240901T060000
DTEND;TZID=America/Detroit:20240901T130000
DTSTAMP:20260421T193354
CREATED:20240804T093935Z
LAST-MODIFIED:20240806T083805Z
UID:10000033-1725170400-1725195600@blakefarms.com
SUMMARY:Dino Dayze
DESCRIPTION:February 1st | Blake’s Orchard & Cider Mill\npurchase tickets \nMother Son Country Dance\nPut on those flannels\, cowboy boots and enjoy an unforgettable night on the farm. This is a two hour\, country-themed dance for mothers and their sons. Tickets include event attendance with music and dancing\, food and memories that will last a lifetime.  \n*Children 12 years old and under will be in attendance.  \nDate: Saturday\, February 1st  \nTime: 5:00 PM – 7:00 PM  \nLocation: Blake’s Orchard & Cider Mill\, 17985 Armada Center Road\, MI 48005 \nInclusions:  \n\nDJ & Dance Area\nPhoto Opportunities\nDinner Buffet- Salad\, Pasta\, Chicken Tenders\, Desserts and non-alcoholic beverages\nDonuts & Cider\n\nPrice: \nParent & Child- $45.00 \nAdditional Child- $10.00
URL:https://blakefarms.com/event/dino-dayze/2024-09-01/
LOCATION:Blake’s Orchard & Cider Mill\, 17985 Armada Center Rd\, Armada\, MI\, 48005\, United States
CATEGORIES:Blake's Orchard & Cider Mill,Children Events
ATTACH;FMTTYPE=image/jpeg:https://blakefarms.com/wp-content/uploads/2024/08/BF_2023-Dino-Dayze-12-scaled-e1722750114710.jpg
END:VEVENT
BEGIN:VEVENT
DTSTART;TZID=America/Detroit:20240831T060000
DTEND;TZID=America/Detroit:20240831T130000
DTSTAMP:20260421T193354
CREATED:20240804T093935Z
LAST-MODIFIED:20240806T083805Z
UID:10000029-1725084000-1725109200@blakefarms.com
SUMMARY:Dino Dayze
DESCRIPTION:February 1st | Blake’s Orchard & Cider Mill\npurchase tickets \nMother Son Country Dance\nPut on those flannels\, cowboy boots and enjoy an unforgettable night on the farm. This is a two hour\, country-themed dance for mothers and their sons. Tickets include event attendance with music and dancing\, food and memories that will last a lifetime.  \n*Children 12 years old and under will be in attendance.  \nDate: Saturday\, February 1st  \nTime: 5:00 PM – 7:00 PM  \nLocation: Blake’s Orchard & Cider Mill\, 17985 Armada Center Road\, MI 48005 \nInclusions:  \n\nDJ & Dance Area\nPhoto Opportunities\nDinner Buffet- Salad\, Pasta\, Chicken Tenders\, Desserts and non-alcoholic beverages\nDonuts & Cider\n\nPrice: \nParent & Child- $45.00 \nAdditional Child- $10.00
URL:https://blakefarms.com/event/dino-dayze/2024-08-31/
LOCATION:Blake’s Orchard & Cider Mill\, 17985 Armada Center Rd\, Armada\, MI\, 48005\, United States
CATEGORIES:Blake's Orchard & Cider Mill,Children Events
ATTACH;FMTTYPE=image/jpeg:https://blakefarms.com/wp-content/uploads/2024/08/BF_2023-Dino-Dayze-12-scaled-e1722750114710.jpg
END:VEVENT
BEGIN:VEVENT
DTSTART;TZID=America/Detroit:20240823T060000
DTEND;TZID=America/Detroit:20240823T140000
DTSTAMP:20260421T193354
CREATED:20240730T215922Z
LAST-MODIFIED:20240814T211550Z
UID:10000028-1724392800-1724421600@blakefarms.com
SUMMARY:Back to School Celebration!
DESCRIPTION:February 1st | Blake’s Orchard & Cider Mill\npurchase tickets \nMother Son Country Dance\nPut on those flannels\, cowboy boots and enjoy an unforgettable night on the farm. This is a two hour\, country-themed dance for mothers and their sons. Tickets include event attendance with music and dancing\, food and memories that will last a lifetime.  \n*Children 12 years old and under will be in attendance.  \nDate: Saturday\, February 1st  \nTime: 5:00 PM – 7:00 PM  \nLocation: Blake’s Orchard & Cider Mill\, 17985 Armada Center Road\, MI 48005 \nInclusions:  \n\nDJ & Dance Area\nPhoto Opportunities\nDinner Buffet- Salad\, Pasta\, Chicken Tenders\, Desserts and non-alcoholic beverages\nDonuts & Cider\n\nPrice: \nParent & Child- $45.00 \nAdditional Child- $10.00
URL:https://blakefarms.com/event/back-to-school-celebration/
LOCATION:Blake’s Orchard & Cider Mill\, 17985 Armada Center Rd\, Armada\, MI\, 48005\, United States
ATTACH;FMTTYPE=image/jpeg:https://blakefarms.com/wp-content/uploads/2024/07/BF_2024-Back-to-School-FB-Event-Cover-scaled.jpg
END:VEVENT
BEGIN:VEVENT
DTSTART;TZID=America/Detroit:20240803T060000
DTEND;TZID=America/Detroit:20240803T110000
DTSTAMP:20260421T193354
CREATED:20240716T205715Z
LAST-MODIFIED:20240716T221219Z
UID:10000024-1722664800-1722682800@blakefarms.com
SUMMARY:Farm Fresh Tours
DESCRIPTION:February 1st | Blake’s Orchard & Cider Mill\npurchase tickets \nMother Son Country Dance\nPut on those flannels\, cowboy boots and enjoy an unforgettable night on the farm. This is a two hour\, country-themed dance for mothers and their sons. Tickets include event attendance with music and dancing\, food and memories that will last a lifetime.  \n*Children 12 years old and under will be in attendance.  \nDate: Saturday\, February 1st  \nTime: 5:00 PM – 7:00 PM  \nLocation: Blake’s Orchard & Cider Mill\, 17985 Armada Center Road\, MI 48005 \nInclusions:  \n\nDJ & Dance Area\nPhoto Opportunities\nDinner Buffet- Salad\, Pasta\, Chicken Tenders\, Desserts and non-alcoholic beverages\nDonuts & Cider\n\nPrice: \nParent & Child- $45.00 \nAdditional Child- $10.00
URL:https://blakefarms.com/event/farm-fresh-tours-3/2024-08-03/
LOCATION:Blake’s Orchard & Cider Mill\, 17985 Armada Center Rd\, Armada\, MI\, 48005\, United States
CATEGORIES:Blake's Orchard & Cider Mill
ATTACH;FMTTYPE=image/png:https://blakefarms.com/wp-content/uploads/2024/05/Screen-Shot-2024-05-26-at-3.48.59-AM-e1716709862833.png
END:VEVENT
BEGIN:VEVENT
DTSTART;TZID=America/Detroit:20240607T140000
DTEND;TZID=America/Detroit:20240607T170000
DTSTAMP:20260421T193354
CREATED:20240510T043956Z
LAST-MODIFIED:20240526T120217Z
UID:10000001-1717768800-1717779600@blakefarms.com
SUMMARY:Murder Mystery Dinner: "Good Riddance"
DESCRIPTION:February 1st | Blake’s Orchard & Cider Mill\npurchase tickets \nMother Son Country Dance\nPut on those flannels\, cowboy boots and enjoy an unforgettable night on the farm. This is a two hour\, country-themed dance for mothers and their sons. Tickets include event attendance with music and dancing\, food and memories that will last a lifetime.  \n*Children 12 years old and under will be in attendance.  \nDate: Saturday\, February 1st  \nTime: 5:00 PM – 7:00 PM  \nLocation: Blake’s Orchard & Cider Mill\, 17985 Armada Center Road\, MI 48005 \nInclusions:  \n\nDJ & Dance Area\nPhoto Opportunities\nDinner Buffet- Salad\, Pasta\, Chicken Tenders\, Desserts and non-alcoholic beverages\nDonuts & Cider\n\nPrice: \nParent & Child- $45.00 \nAdditional Child- $10.00
URL:https://blakefarms.com/event/murder-mystery-dinner-good-riddance/
LOCATION:Blake’s Tasting Room\, 17985 Armada Center Road\, Armada\, MI\, 48005\, United States
CATEGORIES:Blake's Tasting Room
ATTACH;FMTTYPE=image/png:https://blakefarms.com/wp-content/uploads/2024/05/Screen-Shot-2024-05-26-at-4.00.18-AM-e1716710502253.png
END:VEVENT
END:VCALENDAR