BEGIN:VCALENDAR
VERSION:2.0
PRODID:-//Blake Farms - ECPv6.15.16.1//NONSGML v1.0//EN
CALSCALE:GREGORIAN
METHOD:PUBLISH
X-ORIGINAL-URL:https://blakefarms.com
X-WR-CALDESC:Events for Blake Farms
REFRESH-INTERVAL;VALUE=DURATION:PT1H
X-Robots-Tag:noindex
X-PUBLISHED-TTL:PT1H
BEGIN:VTIMEZONE
TZID:America/Detroit
BEGIN:DAYLIGHT
TZOFFSETFROM:-0500
TZOFFSETTO:-0400
TZNAME:EDT
DTSTART:20250309T070000
END:DAYLIGHT
BEGIN:STANDARD
TZOFFSETFROM:-0400
TZOFFSETTO:-0500
TZNAME:EST
DTSTART:20251102T060000
END:STANDARD
BEGIN:DAYLIGHT
TZOFFSETFROM:-0500
TZOFFSETTO:-0400
TZNAME:EDT
DTSTART:20260308T070000
END:DAYLIGHT
BEGIN:STANDARD
TZOFFSETFROM:-0400
TZOFFSETTO:-0500
TZNAME:EST
DTSTART:20261101T060000
END:STANDARD
BEGIN:DAYLIGHT
TZOFFSETFROM:-0500
TZOFFSETTO:-0400
TZNAME:EDT
DTSTART:20270314T070000
END:DAYLIGHT
BEGIN:STANDARD
TZOFFSETFROM:-0400
TZOFFSETTO:-0500
TZNAME:EST
DTSTART:20271107T060000
END:STANDARD
END:VTIMEZONE
BEGIN:VEVENT
DTSTART;TZID=America/Detroit:20260609T080000
DTEND;TZID=America/Detroit:20260813T160000
DTSTAMP:20260421T092703
CREATED:20240517T012243Z
LAST-MODIFIED:20260402T165823Z
UID:10000006-1780992000-1786636800@blakefarms.com
SUMMARY:Appleseed Camp: Blake's Outdoor Summer Camp
DESCRIPTION:Blake’s Backyard (Almont)Tales & CocktailsApril 15th & May 13th | 6:30pmCraft cocktails\, rich history\, and a night of hands-on mixology. Shake\, stir\, and sip while discovering the story behind the featured spirit—because every great drink has a history worth toasting!								\n				\n					\n				\n		\n					\n				\n				\n												\n																					January Cocktail Feature: "The Snow Globe"\n										\n									\n				\n				\n				\n									Ticket Includes:Sip & Learn: Discover the fascinating history behind the featured spirit and how it’s made.Shake It Up: Get hands-on with an interactive cocktail-making session led by our expert mixologists.Take-Home Perks: Walk away with your own cocktail shaker to keep the mixing magic going at home!Exclusive Discounts: Enjoy 20% off the featured spirit after the event\, so you can recreate your masterpiece.Extra Treats: Get 10% off any additional food & drink purchases during the event. 								\n				\n					\n				\n		\n					\n				\n				\n					\n	Purchase Tickets
URL:https://blakefarms.com/event/appleseed-camp/
LOCATION:Blake’s Orchard & Cider Mill\, 17985 Armada Center Rd\, Armada\, MI\, 48005\, United States
CATEGORIES:Children Events
ATTACH;FMTTYPE=image/jpeg:https://blakefarms.com/wp-content/uploads/2024/05/BF_2024-Appleseed-Camp-025-16x9-1-scaled.jpg
END:VEVENT
END:VCALENDAR