BEGIN:VCALENDAR
VERSION:2.0
PRODID:-//Blake Farms - ECPv6.15.16.1//NONSGML v1.0//EN
CALSCALE:GREGORIAN
METHOD:PUBLISH
X-WR-CALNAME:Blake Farms
X-ORIGINAL-URL:https://blakefarms.com
X-WR-CALDESC:Events for Blake Farms
REFRESH-INTERVAL;VALUE=DURATION:PT1H
X-Robots-Tag:noindex
X-PUBLISHED-TTL:PT1H
BEGIN:VTIMEZONE
TZID:America/Detroit
BEGIN:DAYLIGHT
TZOFFSETFROM:-0500
TZOFFSETTO:-0400
TZNAME:EDT
DTSTART:20250309T070000
END:DAYLIGHT
BEGIN:STANDARD
TZOFFSETFROM:-0400
TZOFFSETTO:-0500
TZNAME:EST
DTSTART:20251102T060000
END:STANDARD
BEGIN:DAYLIGHT
TZOFFSETFROM:-0500
TZOFFSETTO:-0400
TZNAME:EDT
DTSTART:20260308T070000
END:DAYLIGHT
BEGIN:STANDARD
TZOFFSETFROM:-0400
TZOFFSETTO:-0500
TZNAME:EST
DTSTART:20261101T060000
END:STANDARD
BEGIN:DAYLIGHT
TZOFFSETFROM:-0500
TZOFFSETTO:-0400
TZNAME:EDT
DTSTART:20270314T070000
END:DAYLIGHT
BEGIN:STANDARD
TZOFFSETFROM:-0400
TZOFFSETTO:-0500
TZNAME:EST
DTSTART:20271107T060000
END:STANDARD
END:VTIMEZONE
BEGIN:VEVENT
DTSTART;TZID=America/Detroit:20260507T180000
DTEND;TZID=America/Detroit:20260507T193000
DTSTAMP:20260425T122954
CREATED:20260414T190540Z
LAST-MODIFIED:20260414T191418Z
UID:10000532-1778176800-1778182200@blakefarms.com
SUMMARY:Apple Blossom Yoga Experience
DESCRIPTION:Blake’s Daddy-Daughter DanceTo The Moon & Back! Themed Indoor DanceSaturday\, February 7th  • 5:00pm – 7:00 pmBlake’s Orchard & Cider Mill\, 17985 Armada Center Road Armada\, MI 48005 Buckle up and get ready for launch! Come join us as this father-daughter duo takes a fun filled trip to the moon and back. Expect smiles\, a few laughs\, and maybe some stellar dance moves as they float across the floor. This cosmic moment is all about fun\, love\, and celebrating a relationship that’s always reaching for the stars! This is a two-hour dance for parent and child. Tickets include event attendance with music and dancing\, food and memories that will last a lifetime. Children 12 years old and under will be in attendance. Features:  DJ & Dance AreaDinner Buffet- Salad\, Pasta\, Chicken Tenders\, Desserts\, & non-alcoholic beveragesPhoto OpportunityNo ticket refunds. Tickets are per couple\, and each attendee must have proof of purchase. Tickets are limited\, this event will sell out and we cannot wait to see you! 								\n				\n					\n				\n		\n					\n				\n				\n					\n	\n	PURCHASE TICKETS\n			\n		\n								\n	\n	\n			Feb. 7th | 5pm-7pm\n	\n				\n				\n					\n				\n		\n					\n				\n				\n							\n			\n		\n						\n				\n					\n				\n		\n					\n		\n				\n				\n					\n			\n		Memories that last a lifetime	\n						\n				\n				\n				\n				\n					\n			\n		2026 Membership Program	\n						\n				\n				\n				\n				\n					\n								Year-round benefits\, exclusive perks\, and unmatched value for individuals\, couples\, and families. Sip discounted draft pours in our new Member Mug\, enjoy a complimentary donut and cider during every visit\, play outside with unlimited Funland admission and more! \n	\n				\n				\n				\n				\n							\n			\n		\n						\n				\n				\n				\n					\n	LEARN MORE
URL:https://blakefarms.com/event/apple-blossom-yoga-experience/
LOCATION:Blake’s Orchard & Cider Mill\, 17985 Armada Center Rd\, Armada\, MI\, 48005\, United States
CATEGORIES:Blake's Orchard & Cider Mill
ATTACH;FMTTYPE=image/jpeg:https://blakefarms.com/wp-content/uploads/2026/04/bf-yoga-2-scaled.jpg
END:VEVENT
BEGIN:VEVENT
DTSTART;TZID=America/Detroit:20260509T100000
DTEND;TZID=America/Detroit:20260509T120000
DTSTAMP:20260425T122954
CREATED:20260415T153738Z
LAST-MODIFIED:20260415T160936Z
UID:10000534-1778320800-1778328000@blakefarms.com
SUMMARY:Little Gardeners Workshop
DESCRIPTION:Blake’s Daddy-Daughter DanceTo The Moon & Back! Themed Indoor DanceSaturday\, February 7th  • 5:00pm – 7:00 pmBlake’s Orchard & Cider Mill\, 17985 Armada Center Road Armada\, MI 48005 Buckle up and get ready for launch! Come join us as this father-daughter duo takes a fun filled trip to the moon and back. Expect smiles\, a few laughs\, and maybe some stellar dance moves as they float across the floor. This cosmic moment is all about fun\, love\, and celebrating a relationship that’s always reaching for the stars! This is a two-hour dance for parent and child. Tickets include event attendance with music and dancing\, food and memories that will last a lifetime. Children 12 years old and under will be in attendance. Features:  DJ & Dance AreaDinner Buffet- Salad\, Pasta\, Chicken Tenders\, Desserts\, & non-alcoholic beveragesPhoto OpportunityNo ticket refunds. Tickets are per couple\, and each attendee must have proof of purchase. Tickets are limited\, this event will sell out and we cannot wait to see you! 								\n				\n					\n				\n		\n					\n				\n				\n					\n	\n	PURCHASE TICKETS\n			\n		\n								\n	\n	\n			Feb. 7th | 5pm-7pm\n	\n				\n				\n					\n				\n		\n					\n				\n				\n							\n			\n		\n						\n				\n					\n				\n		\n					\n		\n				\n				\n					\n			\n		Memories that last a lifetime	\n						\n				\n				\n				\n				\n					\n			\n		2026 Membership Program	\n						\n				\n				\n				\n				\n					\n								Year-round benefits\, exclusive perks\, and unmatched value for individuals\, couples\, and families. Sip discounted draft pours in our new Member Mug\, enjoy a complimentary donut and cider during every visit\, play outside with unlimited Funland admission and more! \n	\n				\n				\n				\n				\n							\n			\n		\n						\n				\n				\n				\n					\n	LEARN MORE
URL:https://blakefarms.com/event/little-gardeners-workshop/
LOCATION:Blake’s Backyard\, 5590 Van Dyke\, Almont\, MI\, 48003\, United States
CATEGORIES:Blake's Backyard
ATTACH;FMTTYPE=image/jpeg:https://blakefarms.com/wp-content/uploads/2026/04/BBY_2026-Little-Gardeners-Workshop-scaled.jpg
END:VEVENT
BEGIN:VEVENT
DTSTART;TZID=America/Detroit:20260510T090000
DTEND;TZID=America/Detroit:20260510T150000
DTSTAMP:20260425T122954
CREATED:20260424T151707Z
LAST-MODIFIED:20260424T155434Z
UID:10000535-1778403600-1778425200@blakefarms.com
SUMMARY:Mother's Day Brunch at Blake's Tasting Room
DESCRIPTION:Blake’s Daddy-Daughter DanceTo The Moon & Back! Themed Indoor DanceSaturday\, February 7th  • 5:00pm – 7:00 pmBlake’s Orchard & Cider Mill\, 17985 Armada Center Road Armada\, MI 48005 Buckle up and get ready for launch! Come join us as this father-daughter duo takes a fun filled trip to the moon and back. Expect smiles\, a few laughs\, and maybe some stellar dance moves as they float across the floor. This cosmic moment is all about fun\, love\, and celebrating a relationship that’s always reaching for the stars! This is a two-hour dance for parent and child. Tickets include event attendance with music and dancing\, food and memories that will last a lifetime. Children 12 years old and under will be in attendance. Features:  DJ & Dance AreaDinner Buffet- Salad\, Pasta\, Chicken Tenders\, Desserts\, & non-alcoholic beveragesPhoto OpportunityNo ticket refunds. Tickets are per couple\, and each attendee must have proof of purchase. Tickets are limited\, this event will sell out and we cannot wait to see you! 								\n				\n					\n				\n		\n					\n				\n				\n					\n	\n	PURCHASE TICKETS\n			\n		\n								\n	\n	\n			Feb. 7th | 5pm-7pm\n	\n				\n				\n					\n				\n		\n					\n				\n				\n							\n			\n		\n						\n				\n					\n				\n		\n					\n		\n				\n				\n					\n			\n		Memories that last a lifetime	\n						\n				\n				\n				\n				\n					\n			\n		2026 Membership Program	\n						\n				\n				\n				\n				\n					\n								Year-round benefits\, exclusive perks\, and unmatched value for individuals\, couples\, and families. Sip discounted draft pours in our new Member Mug\, enjoy a complimentary donut and cider during every visit\, play outside with unlimited Funland admission and more! \n	\n				\n				\n				\n				\n							\n			\n		\n						\n				\n				\n				\n					\n	LEARN MORE
URL:https://blakefarms.com/event/tr-mothers-day-brunch/
LOCATION:Blake’s Tasting Room\, 17985 Armada Center Road\, Armada\, MI\, 48005\, United States
CATEGORIES:Blake's Tasting Room
ATTACH;FMTTYPE=image/jpeg:https://blakefarms.com/wp-content/uploads/2026/04/TR_2026-Mothers-Day-Brunch-TV-H-scaled.jpg
END:VEVENT
BEGIN:VEVENT
DTSTART;TZID=America/Detroit:20260510T090000
DTEND;TZID=America/Detroit:20260510T150000
DTSTAMP:20260425T122954
CREATED:20260424T160343Z
LAST-MODIFIED:20260424T161708Z
UID:10000537-1778403600-1778425200@blakefarms.com
SUMMARY:Mother's Day Brunch at Blake's Backyard
DESCRIPTION:Blake’s Daddy-Daughter DanceTo The Moon & Back! Themed Indoor DanceSaturday\, February 7th  • 5:00pm – 7:00 pmBlake’s Orchard & Cider Mill\, 17985 Armada Center Road Armada\, MI 48005 Buckle up and get ready for launch! Come join us as this father-daughter duo takes a fun filled trip to the moon and back. Expect smiles\, a few laughs\, and maybe some stellar dance moves as they float across the floor. This cosmic moment is all about fun\, love\, and celebrating a relationship that’s always reaching for the stars! This is a two-hour dance for parent and child. Tickets include event attendance with music and dancing\, food and memories that will last a lifetime. Children 12 years old and under will be in attendance. Features:  DJ & Dance AreaDinner Buffet- Salad\, Pasta\, Chicken Tenders\, Desserts\, & non-alcoholic beveragesPhoto OpportunityNo ticket refunds. Tickets are per couple\, and each attendee must have proof of purchase. Tickets are limited\, this event will sell out and we cannot wait to see you! 								\n				\n					\n				\n		\n					\n				\n				\n					\n	\n	PURCHASE TICKETS\n			\n		\n								\n	\n	\n			Feb. 7th | 5pm-7pm\n	\n				\n				\n					\n				\n		\n					\n				\n				\n							\n			\n		\n						\n				\n					\n				\n		\n					\n		\n				\n				\n					\n			\n		Memories that last a lifetime	\n						\n				\n				\n				\n				\n					\n			\n		2026 Membership Program	\n						\n				\n				\n				\n				\n					\n								Year-round benefits\, exclusive perks\, and unmatched value for individuals\, couples\, and families. Sip discounted draft pours in our new Member Mug\, enjoy a complimentary donut and cider during every visit\, play outside with unlimited Funland admission and more! \n	\n				\n				\n				\n				\n							\n			\n		\n						\n				\n				\n				\n					\n	LEARN MORE
URL:https://blakefarms.com/event/backyard-mothers-day-brunch/
LOCATION:Blake’s Backyard\, 5590 Van Dyke\, Almont\, MI\, 48003\, United States
CATEGORIES:Blake's Backyard
ATTACH;FMTTYPE=image/jpeg:https://blakefarms.com/wp-content/uploads/2026/04/BBY_2026-Mothers-Day-Brunch-TV-scaled.jpg
END:VEVENT
BEGIN:VEVENT
DTSTART;TZID=America/Detroit:20260513T183000
DTEND;TZID=America/Detroit:20260513T200000
DTSTAMP:20260425T122954
CREATED:20250211T210429Z
LAST-MODIFIED:20260407T194236Z
UID:10000528-1778697000-1778702400@blakefarms.com
SUMMARY:Tales & Cocktails: A Guided Mixology Class
DESCRIPTION:Blake’s Daddy-Daughter DanceTo The Moon & Back! Themed Indoor DanceSaturday\, February 7th  • 5:00pm – 7:00 pmBlake’s Orchard & Cider Mill\, 17985 Armada Center Road Armada\, MI 48005 Buckle up and get ready for launch! Come join us as this father-daughter duo takes a fun filled trip to the moon and back. Expect smiles\, a few laughs\, and maybe some stellar dance moves as they float across the floor. This cosmic moment is all about fun\, love\, and celebrating a relationship that’s always reaching for the stars! This is a two-hour dance for parent and child. Tickets include event attendance with music and dancing\, food and memories that will last a lifetime. Children 12 years old and under will be in attendance. Features:  DJ & Dance AreaDinner Buffet- Salad\, Pasta\, Chicken Tenders\, Desserts\, & non-alcoholic beveragesPhoto OpportunityNo ticket refunds. Tickets are per couple\, and each attendee must have proof of purchase. Tickets are limited\, this event will sell out and we cannot wait to see you! 								\n				\n					\n				\n		\n					\n				\n				\n					\n	\n	PURCHASE TICKETS\n			\n		\n								\n	\n	\n			Feb. 7th | 5pm-7pm\n	\n				\n				\n					\n				\n		\n					\n				\n				\n							\n			\n		\n						\n				\n					\n				\n		\n					\n		\n				\n				\n					\n			\n		Memories that last a lifetime	\n						\n				\n				\n				\n				\n					\n			\n		2026 Membership Program	\n						\n				\n				\n				\n				\n					\n								Year-round benefits\, exclusive perks\, and unmatched value for individuals\, couples\, and families. Sip discounted draft pours in our new Member Mug\, enjoy a complimentary donut and cider during every visit\, play outside with unlimited Funland admission and more! \n	\n				\n				\n				\n				\n							\n			\n		\n						\n				\n				\n				\n					\n	LEARN MORE
URL:https://blakefarms.com/event/tales-cocktails/2026-05-13/
LOCATION:Blake’s Backyard\, 5590 Van Dyke\, Almont\, MI\, 48003\, United States
CATEGORIES:Blake's Backyard
ATTACH;FMTTYPE=image/jpeg:https://blakefarms.com/wp-content/uploads/2025/02/tales-cocktails.jpg
END:VEVENT
BEGIN:VEVENT
DTSTART;TZID=America/Detroit:20260523T090000
DTEND;TZID=America/Detroit:20260523T120000
DTSTAMP:20260425T122954
CREATED:20250327T231327Z
LAST-MODIFIED:20260407T195907Z
UID:10000090-1779526800-1779537600@blakefarms.com
SUMMARY:3rd Annual Sauce Off
DESCRIPTION:Blake’s Daddy-Daughter DanceTo The Moon & Back! Themed Indoor DanceSaturday\, February 7th  • 5:00pm – 7:00 pmBlake’s Orchard & Cider Mill\, 17985 Armada Center Road Armada\, MI 48005 Buckle up and get ready for launch! Come join us as this father-daughter duo takes a fun filled trip to the moon and back. Expect smiles\, a few laughs\, and maybe some stellar dance moves as they float across the floor. This cosmic moment is all about fun\, love\, and celebrating a relationship that’s always reaching for the stars! This is a two-hour dance for parent and child. Tickets include event attendance with music and dancing\, food and memories that will last a lifetime. Children 12 years old and under will be in attendance. Features:  DJ & Dance AreaDinner Buffet- Salad\, Pasta\, Chicken Tenders\, Desserts\, & non-alcoholic beveragesPhoto OpportunityNo ticket refunds. Tickets are per couple\, and each attendee must have proof of purchase. Tickets are limited\, this event will sell out and we cannot wait to see you! 								\n				\n					\n				\n		\n					\n				\n				\n					\n	\n	PURCHASE TICKETS\n			\n		\n								\n	\n	\n			Feb. 7th | 5pm-7pm\n	\n				\n				\n					\n				\n		\n					\n				\n				\n							\n			\n		\n						\n				\n					\n				\n		\n					\n		\n				\n				\n					\n			\n		Memories that last a lifetime	\n						\n				\n				\n				\n				\n					\n			\n		2026 Membership Program	\n						\n				\n				\n				\n				\n					\n								Year-round benefits\, exclusive perks\, and unmatched value for individuals\, couples\, and families. Sip discounted draft pours in our new Member Mug\, enjoy a complimentary donut and cider during every visit\, play outside with unlimited Funland admission and more! \n	\n				\n				\n				\n				\n							\n			\n		\n						\n				\n				\n				\n					\n	LEARN MORE
URL:https://blakefarms.com/event/sauce-off/
LOCATION:Blake’s Orchard & Cider Mill\, 17985 Armada Center Rd\, Armada\, MI\, 48005\, United States
CATEGORIES:Blake's Orchard & Cider Mill
ATTACH;FMTTYPE=image/jpeg:https://blakefarms.com/wp-content/uploads/2025/05/BF_2024-Sauce-Off-078-copy2-scaled.jpg
END:VEVENT
BEGIN:VEVENT
DTSTART;TZID=America/Detroit:20260609T080000
DTEND;TZID=America/Detroit:20260813T160000
DTSTAMP:20260425T122954
CREATED:20240517T012243Z
LAST-MODIFIED:20260402T165823Z
UID:10000006-1780992000-1786636800@blakefarms.com
SUMMARY:Appleseed Camp: Blake's Outdoor Summer Camp
DESCRIPTION:Blake’s Daddy-Daughter DanceTo The Moon & Back! Themed Indoor DanceSaturday\, February 7th  • 5:00pm – 7:00 pmBlake’s Orchard & Cider Mill\, 17985 Armada Center Road Armada\, MI 48005 Buckle up and get ready for launch! Come join us as this father-daughter duo takes a fun filled trip to the moon and back. Expect smiles\, a few laughs\, and maybe some stellar dance moves as they float across the floor. This cosmic moment is all about fun\, love\, and celebrating a relationship that’s always reaching for the stars! This is a two-hour dance for parent and child. Tickets include event attendance with music and dancing\, food and memories that will last a lifetime. Children 12 years old and under will be in attendance. Features:  DJ & Dance AreaDinner Buffet- Salad\, Pasta\, Chicken Tenders\, Desserts\, & non-alcoholic beveragesPhoto OpportunityNo ticket refunds. Tickets are per couple\, and each attendee must have proof of purchase. Tickets are limited\, this event will sell out and we cannot wait to see you! 								\n				\n					\n				\n		\n					\n				\n				\n					\n	\n	PURCHASE TICKETS\n			\n		\n								\n	\n	\n			Feb. 7th | 5pm-7pm\n	\n				\n				\n					\n				\n		\n					\n				\n				\n							\n			\n		\n						\n				\n					\n				\n		\n					\n		\n				\n				\n					\n			\n		Memories that last a lifetime	\n						\n				\n				\n				\n				\n					\n			\n		2026 Membership Program	\n						\n				\n				\n				\n				\n					\n								Year-round benefits\, exclusive perks\, and unmatched value for individuals\, couples\, and families. Sip discounted draft pours in our new Member Mug\, enjoy a complimentary donut and cider during every visit\, play outside with unlimited Funland admission and more! \n	\n				\n				\n				\n				\n							\n			\n		\n						\n				\n				\n				\n					\n	LEARN MORE
URL:https://blakefarms.com/event/appleseed-camp/
LOCATION:Blake’s Orchard & Cider Mill\, 17985 Armada Center Rd\, Armada\, MI\, 48005\, United States
CATEGORIES:Children Events
ATTACH;FMTTYPE=image/jpeg:https://blakefarms.com/wp-content/uploads/2024/05/BF_2024-Appleseed-Camp-025-16x9-1-scaled.jpg
END:VEVENT
END:VCALENDAR