BEGIN:VCALENDAR
VERSION:2.0
PRODID:-//Blake Farms - ECPv6.15.16.1//NONSGML v1.0//EN
CALSCALE:GREGORIAN
METHOD:PUBLISH
X-ORIGINAL-URL:https://blakefarms.com
X-WR-CALDESC:Events for Blake Farms
REFRESH-INTERVAL;VALUE=DURATION:PT1H
X-Robots-Tag:noindex
X-PUBLISHED-TTL:PT1H
BEGIN:VTIMEZONE
TZID:America/Detroit
BEGIN:DAYLIGHT
TZOFFSETFROM:-0500
TZOFFSETTO:-0400
TZNAME:EDT
DTSTART:20230312T070000
END:DAYLIGHT
BEGIN:STANDARD
TZOFFSETFROM:-0400
TZOFFSETTO:-0500
TZNAME:EST
DTSTART:20231105T060000
END:STANDARD
BEGIN:DAYLIGHT
TZOFFSETFROM:-0500
TZOFFSETTO:-0400
TZNAME:EDT
DTSTART:20240310T070000
END:DAYLIGHT
BEGIN:STANDARD
TZOFFSETFROM:-0400
TZOFFSETTO:-0500
TZNAME:EST
DTSTART:20241103T060000
END:STANDARD
BEGIN:DAYLIGHT
TZOFFSETFROM:-0500
TZOFFSETTO:-0400
TZNAME:EDT
DTSTART:20250309T070000
END:DAYLIGHT
BEGIN:STANDARD
TZOFFSETFROM:-0400
TZOFFSETTO:-0500
TZNAME:EST
DTSTART:20251102T060000
END:STANDARD
BEGIN:DAYLIGHT
TZOFFSETFROM:-0500
TZOFFSETTO:-0400
TZNAME:EDT
DTSTART:20260308T070000
END:DAYLIGHT
BEGIN:STANDARD
TZOFFSETFROM:-0400
TZOFFSETTO:-0500
TZNAME:EST
DTSTART:20261101T060000
END:STANDARD
END:VTIMEZONE
BEGIN:VEVENT
DTSTART;TZID=America/Detroit:20250518T060000
DTEND;TZID=America/Detroit:20250518T080000
DTSTAMP:20260424T172936
CREATED:20250415T220439Z
LAST-MODIFIED:20250515T203531Z
UID:10000094-1747548000-1747555200@blakefarms.com
SUMMARY:Character Event: Ohana Adventure Day
DESCRIPTION:blake's backyard (almont)	\n						\n				\n				\n				\n				\n					\n						\n		a hoppin' good time	\n			\n				\n				\n				\n				\n					\n			\n		March 28-29 & April 4	\n						\n				\n				\n				\n		\n					\n		\n				\n				\n					\n						\n		Hop Hop Hop To It!	\n			Some-bunny told us you’re looking for the cutest Easter plans! Hop on over to Blake’s Backyard for egg hunts\, bunny snuggles\, and all the springtime fun for your little ones! Bonus: the Taproom & Market are open—because parents deserve a treat too. \n	\n				\n				\n				\n				\n					\n	PURCHASE TICKETS\n    \n\n				\n				\n				\n		\n				\n				\n					\n	\n					\n		Dates	\n				\n			\n			\n						\n				March 28			\n		\n		\n					\n				9:00am - 3:00pm			 \n			\n\n			\n						\n				March 29			\n		\n		\n					\n				9:00am - 3:00pm			 \n			\n\n			\n						\n				April 4			\n		\n		\n					\n				9:00am - 3:00pm			 \n			\n		\n			\n\n				\n				\n				\n				\n					\n	\n					\n					\n												5600 Van Dyke Rd\, Almont\, MI 48003\n			\n					\n			 \n\n				\n				\n				\n					\n				\n		\n					\n				\n				\n							\n			\n		\n						\n				\n				\n				\n					\n			\n		Free Glitter Tattoos\, Easter Crafts & More	\n						\n				\n				\n				\n				\n					\n	What's Included\n    \n\n				\n				\n				\n				\n							\n			\n		\n						\n				\n					\n				\n		\n					\n				\n				\n					\n	\n		\n				\n\n				\n\n				\n\n				\n\n				\n\n				\n\n				\n	\n\n				\n				\n					\n				\n		\n					\n				\n				\n							\n			\n		\n						\n				\n				\n				\n					\n			\n		Join Us at Blake's Backyard	\n						\n				\n				\n				\n				\n							\n			\n		\n						\n				\n					\n				\n		\n					\n		\n		\n				\n		\n				\n				\n					\n			\n		Kitchen + Tap Room	\n				\n		Open Daily			\n			\n				\n				\n				\n				\n					\n								Blake’s Backyard is the perfect place to grab a pint\, a bite to eat\, and relax with friends. The Blake’s recipe you know\, now in your backyard. \n	\n				\n				\n				\n				\n					\n	Plan Your Visit
URL:https://blakefarms.com/event/sitchadventure/
LOCATION:Blake’s Backyard\, 5590 Van Dyke\, Almont\, MI\, 48003\, United States
CATEGORIES:Blake's Backyard,Children Events
ATTACH;FMTTYPE=image/jpeg:https://blakefarms.com/wp-content/uploads/2025/04/AdobeStock_942550890-web-scaled.jpg
END:VEVENT
BEGIN:VEVENT
DTSTART;VALUE=DATE:20250516
DTEND;VALUE=DATE:20250518
DTSTAMP:20260424T172936
CREATED:20250305T225444Z
LAST-MODIFIED:20250428T235918Z
UID:10000085-1747425600-1747511999@blakefarms.com
SUMMARY:FREE Fruit Tree Workshops
DESCRIPTION:blake's backyard (almont)	\n						\n				\n				\n				\n				\n					\n						\n		a hoppin' good time	\n			\n				\n				\n				\n				\n					\n			\n		March 28-29 & April 4	\n						\n				\n				\n				\n		\n					\n		\n				\n				\n					\n						\n		Hop Hop Hop To It!	\n			Some-bunny told us you’re looking for the cutest Easter plans! Hop on over to Blake’s Backyard for egg hunts\, bunny snuggles\, and all the springtime fun for your little ones! Bonus: the Taproom & Market are open—because parents deserve a treat too. \n	\n				\n				\n				\n				\n					\n	PURCHASE TICKETS\n    \n\n				\n				\n				\n		\n				\n				\n					\n	\n					\n		Dates	\n				\n			\n			\n						\n				March 28			\n		\n		\n					\n				9:00am - 3:00pm			 \n			\n\n			\n						\n				March 29			\n		\n		\n					\n				9:00am - 3:00pm			 \n			\n\n			\n						\n				April 4			\n		\n		\n					\n				9:00am - 3:00pm			 \n			\n		\n			\n\n				\n				\n				\n				\n					\n	\n					\n					\n												5600 Van Dyke Rd\, Almont\, MI 48003\n			\n					\n			 \n\n				\n				\n				\n					\n				\n		\n					\n				\n				\n							\n			\n		\n						\n				\n				\n				\n					\n			\n		Free Glitter Tattoos\, Easter Crafts & More	\n						\n				\n				\n				\n				\n					\n	What's Included\n    \n\n				\n				\n				\n				\n							\n			\n		\n						\n				\n					\n				\n		\n					\n				\n				\n					\n	\n		\n				\n\n				\n\n				\n\n				\n\n				\n\n				\n\n				\n	\n\n				\n				\n					\n				\n		\n					\n				\n				\n							\n			\n		\n						\n				\n				\n				\n					\n			\n		Join Us at Blake's Backyard	\n						\n				\n				\n				\n				\n							\n			\n		\n						\n				\n					\n				\n		\n					\n		\n		\n				\n		\n				\n				\n					\n			\n		Kitchen + Tap Room	\n				\n		Open Daily			\n			\n				\n				\n				\n				\n					\n								Blake’s Backyard is the perfect place to grab a pint\, a bite to eat\, and relax with friends. The Blake’s recipe you know\, now in your backyard. \n	\n				\n				\n				\n				\n					\n	Plan Your Visit
URL:https://blakefarms.com/event/fruit-tree-workshop/
LOCATION:Blake’s Backyard\, 5590 Van Dyke\, Almont\, MI\, 48003\, United States
CATEGORIES:Blake's Backyard
ATTACH;FMTTYPE=image/jpeg:https://blakefarms.com/wp-content/uploads/2025/03/ftw.jpg
END:VEVENT
BEGIN:VEVENT
DTSTART;TZID=America/Detroit:20250308T120000
DTEND;TZID=America/Detroit:20250308T140000
DTSTAMP:20260424T172936
CREATED:20250211T070810Z
LAST-MODIFIED:20250228T234117Z
UID:10000080-1741435200-1741442400@blakefarms.com
SUMMARY:Daddy Daughter Sock Hop Dance
DESCRIPTION:blake's backyard (almont)	\n						\n				\n				\n				\n				\n					\n						\n		a hoppin' good time	\n			\n				\n				\n				\n				\n					\n			\n		March 28-29 & April 4	\n						\n				\n				\n				\n		\n					\n		\n				\n				\n					\n						\n		Hop Hop Hop To It!	\n			Some-bunny told us you’re looking for the cutest Easter plans! Hop on over to Blake’s Backyard for egg hunts\, bunny snuggles\, and all the springtime fun for your little ones! Bonus: the Taproom & Market are open—because parents deserve a treat too. \n	\n				\n				\n				\n				\n					\n	PURCHASE TICKETS\n    \n\n				\n				\n				\n		\n				\n				\n					\n	\n					\n		Dates	\n				\n			\n			\n						\n				March 28			\n		\n		\n					\n				9:00am - 3:00pm			 \n			\n\n			\n						\n				March 29			\n		\n		\n					\n				9:00am - 3:00pm			 \n			\n\n			\n						\n				April 4			\n		\n		\n					\n				9:00am - 3:00pm			 \n			\n		\n			\n\n				\n				\n				\n				\n					\n	\n					\n					\n												5600 Van Dyke Rd\, Almont\, MI 48003\n			\n					\n			 \n\n				\n				\n				\n					\n				\n		\n					\n				\n				\n							\n			\n		\n						\n				\n				\n				\n					\n			\n		Free Glitter Tattoos\, Easter Crafts & More	\n						\n				\n				\n				\n				\n					\n	What's Included\n    \n\n				\n				\n				\n				\n							\n			\n		\n						\n				\n					\n				\n		\n					\n				\n				\n					\n	\n		\n				\n\n				\n\n				\n\n				\n\n				\n\n				\n\n				\n	\n\n				\n				\n					\n				\n		\n					\n				\n				\n							\n			\n		\n						\n				\n				\n				\n					\n			\n		Join Us at Blake's Backyard	\n						\n				\n				\n				\n				\n							\n			\n		\n						\n				\n					\n				\n		\n					\n		\n		\n				\n		\n				\n				\n					\n			\n		Kitchen + Tap Room	\n				\n		Open Daily			\n			\n				\n				\n				\n				\n					\n								Blake’s Backyard is the perfect place to grab a pint\, a bite to eat\, and relax with friends. The Blake’s recipe you know\, now in your backyard. \n	\n				\n				\n				\n				\n					\n	Plan Your Visit
URL:https://blakefarms.com/event/daddy-daughter-sock-hop-dance/
LOCATION:Blake’s Backyard\, 5590 Van Dyke\, Almont\, MI\, 48003\, United States
CATEGORIES:Blake's Backyard,Children Events
ATTACH;FMTTYPE=image/jpeg:https://blakefarms.com/wp-content/uploads/2025/02/AdobeStock_710000892-scaled.jpeg
END:VEVENT
BEGIN:VEVENT
DTSTART;TZID=America/Detroit:20250213T110000
DTEND;TZID=America/Detroit:20250213T160000
DTSTAMP:20260424T172936
CREATED:20250125T181656Z
LAST-MODIFIED:20250211T212130Z
UID:10000069-1739444400-1739462400@blakefarms.com
SUMMARY:Blake's Backyard Palentine's Day
DESCRIPTION:blake's backyard (almont)	\n						\n				\n				\n				\n				\n					\n						\n		a hoppin' good time	\n			\n				\n				\n				\n				\n					\n			\n		March 28-29 & April 4	\n						\n				\n				\n				\n		\n					\n		\n				\n				\n					\n						\n		Hop Hop Hop To It!	\n			Some-bunny told us you’re looking for the cutest Easter plans! Hop on over to Blake’s Backyard for egg hunts\, bunny snuggles\, and all the springtime fun for your little ones! Bonus: the Taproom & Market are open—because parents deserve a treat too. \n	\n				\n				\n				\n				\n					\n	PURCHASE TICKETS\n    \n\n				\n				\n				\n		\n				\n				\n					\n	\n					\n		Dates	\n				\n			\n			\n						\n				March 28			\n		\n		\n					\n				9:00am - 3:00pm			 \n			\n\n			\n						\n				March 29			\n		\n		\n					\n				9:00am - 3:00pm			 \n			\n\n			\n						\n				April 4			\n		\n		\n					\n				9:00am - 3:00pm			 \n			\n		\n			\n\n				\n				\n				\n				\n					\n	\n					\n					\n												5600 Van Dyke Rd\, Almont\, MI 48003\n			\n					\n			 \n\n				\n				\n				\n					\n				\n		\n					\n				\n				\n							\n			\n		\n						\n				\n				\n				\n					\n			\n		Free Glitter Tattoos\, Easter Crafts & More	\n						\n				\n				\n				\n				\n					\n	What's Included\n    \n\n				\n				\n				\n				\n							\n			\n		\n						\n				\n					\n				\n		\n					\n				\n				\n					\n	\n		\n				\n\n				\n\n				\n\n				\n\n				\n\n				\n\n				\n	\n\n				\n				\n					\n				\n		\n					\n				\n				\n							\n			\n		\n						\n				\n				\n				\n					\n			\n		Join Us at Blake's Backyard	\n						\n				\n				\n				\n				\n							\n			\n		\n						\n				\n					\n				\n		\n					\n		\n		\n				\n		\n				\n				\n					\n			\n		Kitchen + Tap Room	\n				\n		Open Daily			\n			\n				\n				\n				\n				\n					\n								Blake’s Backyard is the perfect place to grab a pint\, a bite to eat\, and relax with friends. The Blake’s recipe you know\, now in your backyard. \n	\n				\n				\n				\n				\n					\n	Plan Your Visit
URL:https://blakefarms.com/event/palentines/
LOCATION:Blake’s Backyard\, 5590 Van Dyke\, Almont\, MI\, 48003\, United States
CATEGORIES:Blake's Backyard
ATTACH;FMTTYPE=image/jpeg:https://blakefarms.com/wp-content/uploads/2025/01/BBY-Palentines-Day-edit.jpg
END:VEVENT
BEGIN:VEVENT
DTSTART;VALUE=DATE:20241213
DTEND;VALUE=DATE:20241216
DTSTAMP:20260424T172936
CREATED:20241104T222943Z
LAST-MODIFIED:20241206T225429Z
UID:10000050-1734116400-1734289199@blakefarms.com
SUMMARY:Frozen Princesses
DESCRIPTION:blake's backyard (almont)	\n						\n				\n				\n				\n				\n					\n						\n		a hoppin' good time	\n			\n				\n				\n				\n				\n					\n			\n		March 28-29 & April 4	\n						\n				\n				\n				\n		\n					\n		\n				\n				\n					\n						\n		Hop Hop Hop To It!	\n			Some-bunny told us you’re looking for the cutest Easter plans! Hop on over to Blake’s Backyard for egg hunts\, bunny snuggles\, and all the springtime fun for your little ones! Bonus: the Taproom & Market are open—because parents deserve a treat too. \n	\n				\n				\n				\n				\n					\n	PURCHASE TICKETS\n    \n\n				\n				\n				\n		\n				\n				\n					\n	\n					\n		Dates	\n				\n			\n			\n						\n				March 28			\n		\n		\n					\n				9:00am - 3:00pm			 \n			\n\n			\n						\n				March 29			\n		\n		\n					\n				9:00am - 3:00pm			 \n			\n\n			\n						\n				April 4			\n		\n		\n					\n				9:00am - 3:00pm			 \n			\n		\n			\n\n				\n				\n				\n				\n					\n	\n					\n					\n												5600 Van Dyke Rd\, Almont\, MI 48003\n			\n					\n			 \n\n				\n				\n				\n					\n				\n		\n					\n				\n				\n							\n			\n		\n						\n				\n				\n				\n					\n			\n		Free Glitter Tattoos\, Easter Crafts & More	\n						\n				\n				\n				\n				\n					\n	What's Included\n    \n\n				\n				\n				\n				\n							\n			\n		\n						\n				\n					\n				\n		\n					\n				\n				\n					\n	\n		\n				\n\n				\n\n				\n\n				\n\n				\n\n				\n\n				\n	\n\n				\n				\n					\n				\n		\n					\n				\n				\n							\n			\n		\n						\n				\n				\n				\n					\n			\n		Join Us at Blake's Backyard	\n						\n				\n				\n				\n				\n							\n			\n		\n						\n				\n					\n				\n		\n					\n		\n		\n				\n		\n				\n				\n					\n			\n		Kitchen + Tap Room	\n				\n		Open Daily			\n			\n				\n				\n				\n				\n					\n								Blake’s Backyard is the perfect place to grab a pint\, a bite to eat\, and relax with friends. The Blake’s recipe you know\, now in your backyard. \n	\n				\n				\n				\n				\n					\n	Plan Your Visit
URL:https://blakefarms.com/event/frozen/
LOCATION:Blake’s Orchard & Cider Mill\, 17985 Armada Center Rd\, Armada\, MI\, 48005\, United States
CATEGORIES:Blake's Backyard
ATTACH;FMTTYPE=image/jpeg:https://blakefarms.com/wp-content/uploads/2024/11/frozen-16x9-1.jpg
END:VEVENT
BEGIN:VEVENT
DTSTART;TZID=America/Detroit:20241213T110000
DTEND;TZID=America/Detroit:20241213T160000
DTSTAMP:20260424T172936
CREATED:20241114T212610Z
LAST-MODIFIED:20241211T014137Z
UID:10000053-1734087600-1734105600@blakefarms.com
SUMMARY:Raise the Bar: A Spirited Holiday Bash
DESCRIPTION:blake's backyard (almont)	\n						\n				\n				\n				\n				\n					\n						\n		a hoppin' good time	\n			\n				\n				\n				\n				\n					\n			\n		March 28-29 & April 4	\n						\n				\n				\n				\n		\n					\n		\n				\n				\n					\n						\n		Hop Hop Hop To It!	\n			Some-bunny told us you’re looking for the cutest Easter plans! Hop on over to Blake’s Backyard for egg hunts\, bunny snuggles\, and all the springtime fun for your little ones! Bonus: the Taproom & Market are open—because parents deserve a treat too. \n	\n				\n				\n				\n				\n					\n	PURCHASE TICKETS\n    \n\n				\n				\n				\n		\n				\n				\n					\n	\n					\n		Dates	\n				\n			\n			\n						\n				March 28			\n		\n		\n					\n				9:00am - 3:00pm			 \n			\n\n			\n						\n				March 29			\n		\n		\n					\n				9:00am - 3:00pm			 \n			\n\n			\n						\n				April 4			\n		\n		\n					\n				9:00am - 3:00pm			 \n			\n		\n			\n\n				\n				\n				\n				\n					\n	\n					\n					\n												5600 Van Dyke Rd\, Almont\, MI 48003\n			\n					\n			 \n\n				\n				\n				\n					\n				\n		\n					\n				\n				\n							\n			\n		\n						\n				\n				\n				\n					\n			\n		Free Glitter Tattoos\, Easter Crafts & More	\n						\n				\n				\n				\n				\n					\n	What's Included\n    \n\n				\n				\n				\n				\n							\n			\n		\n						\n				\n					\n				\n		\n					\n				\n				\n					\n	\n		\n				\n\n				\n\n				\n\n				\n\n				\n\n				\n\n				\n	\n\n				\n				\n					\n				\n		\n					\n				\n				\n							\n			\n		\n						\n				\n				\n				\n					\n			\n		Join Us at Blake's Backyard	\n						\n				\n				\n				\n				\n							\n			\n		\n						\n				\n					\n				\n		\n					\n		\n		\n				\n		\n				\n				\n					\n			\n		Kitchen + Tap Room	\n				\n		Open Daily			\n			\n				\n				\n				\n				\n					\n								Blake’s Backyard is the perfect place to grab a pint\, a bite to eat\, and relax with friends. The Blake’s recipe you know\, now in your backyard. \n	\n				\n				\n				\n				\n					\n	Plan Your Visit
URL:https://blakefarms.com/event/raise-the-bar/
LOCATION:Blake’s Backyard\, 5590 Van Dyke\, Almont\, MI\, 48003\, United States
CATEGORIES:Adult Events,Blake's Backyard
ATTACH;FMTTYPE=image/jpeg:https://blakefarms.com/wp-content/uploads/2024/12/BBY_2024-Raise-the-Bar-002-WEB.jpg
ORGANIZER;CN="Blake's Hard Cider":MAILTO:events@blakefarms.com
END:VEVENT
BEGIN:VEVENT
DTSTART;TZID=America/Detroit:20241205T130000
DTEND;TZID=America/Detroit:20241205T150000
DTSTAMP:20260424T172936
CREATED:20241118T215912Z
LAST-MODIFIED:20241120T154958Z
UID:10000054-1733403600-1733410800@blakefarms.com
SUMMARY:Blake's Backyard Paws & Claus
DESCRIPTION:blake's backyard (almont)	\n						\n				\n				\n				\n				\n					\n						\n		a hoppin' good time	\n			\n				\n				\n				\n				\n					\n			\n		March 28-29 & April 4	\n						\n				\n				\n				\n		\n					\n		\n				\n				\n					\n						\n		Hop Hop Hop To It!	\n			Some-bunny told us you’re looking for the cutest Easter plans! Hop on over to Blake’s Backyard for egg hunts\, bunny snuggles\, and all the springtime fun for your little ones! Bonus: the Taproom & Market are open—because parents deserve a treat too. \n	\n				\n				\n				\n				\n					\n	PURCHASE TICKETS\n    \n\n				\n				\n				\n		\n				\n				\n					\n	\n					\n		Dates	\n				\n			\n			\n						\n				March 28			\n		\n		\n					\n				9:00am - 3:00pm			 \n			\n\n			\n						\n				March 29			\n		\n		\n					\n				9:00am - 3:00pm			 \n			\n\n			\n						\n				April 4			\n		\n		\n					\n				9:00am - 3:00pm			 \n			\n		\n			\n\n				\n				\n				\n				\n					\n	\n					\n					\n												5600 Van Dyke Rd\, Almont\, MI 48003\n			\n					\n			 \n\n				\n				\n				\n					\n				\n		\n					\n				\n				\n							\n			\n		\n						\n				\n				\n				\n					\n			\n		Free Glitter Tattoos\, Easter Crafts & More	\n						\n				\n				\n				\n				\n					\n	What's Included\n    \n\n				\n				\n				\n				\n							\n			\n		\n						\n				\n					\n				\n		\n					\n				\n				\n					\n	\n		\n				\n\n				\n\n				\n\n				\n\n				\n\n				\n\n				\n	\n\n				\n				\n					\n				\n		\n					\n				\n				\n							\n			\n		\n						\n				\n				\n				\n					\n			\n		Join Us at Blake's Backyard	\n						\n				\n				\n				\n				\n							\n			\n		\n						\n				\n					\n				\n		\n					\n		\n		\n				\n		\n				\n				\n					\n			\n		Kitchen + Tap Room	\n				\n		Open Daily			\n			\n				\n				\n				\n				\n					\n								Blake’s Backyard is the perfect place to grab a pint\, a bite to eat\, and relax with friends. The Blake’s recipe you know\, now in your backyard. \n	\n				\n				\n				\n				\n					\n	Plan Your Visit
URL:https://blakefarms.com/event/paws-claus/
LOCATION:Blake’s Backyard\, 5590 Van Dyke\, Almont\, MI\, 48003\, United States
CATEGORIES:Blake's Backyard
ATTACH;FMTTYPE=image/jpeg:https://blakefarms.com/wp-content/uploads/2024/11/paws-claus.jpg
END:VEVENT
BEGIN:VEVENT
DTSTART;VALUE=DATE:20241121
DTEND;VALUE=DATE:20241224
DTSTAMP:20260424T172936
CREATED:20241017T234945Z
LAST-MODIFIED:20241120T155235Z
UID:10000045-1732215600-1734980399@blakefarms.com
SUMMARY:Christmas Trees
DESCRIPTION:blake's backyard (almont)	\n						\n				\n				\n				\n				\n					\n						\n		a hoppin' good time	\n			\n				\n				\n				\n				\n					\n			\n		March 28-29 & April 4	\n						\n				\n				\n				\n		\n					\n		\n				\n				\n					\n						\n		Hop Hop Hop To It!	\n			Some-bunny told us you’re looking for the cutest Easter plans! Hop on over to Blake’s Backyard for egg hunts\, bunny snuggles\, and all the springtime fun for your little ones! Bonus: the Taproom & Market are open—because parents deserve a treat too. \n	\n				\n				\n				\n				\n					\n	PURCHASE TICKETS\n    \n\n				\n				\n				\n		\n				\n				\n					\n	\n					\n		Dates	\n				\n			\n			\n						\n				March 28			\n		\n		\n					\n				9:00am - 3:00pm			 \n			\n\n			\n						\n				March 29			\n		\n		\n					\n				9:00am - 3:00pm			 \n			\n\n			\n						\n				April 4			\n		\n		\n					\n				9:00am - 3:00pm			 \n			\n		\n			\n\n				\n				\n				\n				\n					\n	\n					\n					\n												5600 Van Dyke Rd\, Almont\, MI 48003\n			\n					\n			 \n\n				\n				\n				\n					\n				\n		\n					\n				\n				\n							\n			\n		\n						\n				\n				\n				\n					\n			\n		Free Glitter Tattoos\, Easter Crafts & More	\n						\n				\n				\n				\n				\n					\n	What's Included\n    \n\n				\n				\n				\n				\n							\n			\n		\n						\n				\n					\n				\n		\n					\n				\n				\n					\n	\n		\n				\n\n				\n\n				\n\n				\n\n				\n\n				\n\n				\n	\n\n				\n				\n					\n				\n		\n					\n				\n				\n							\n			\n		\n						\n				\n				\n				\n					\n			\n		Join Us at Blake's Backyard	\n						\n				\n				\n				\n				\n							\n			\n		\n						\n				\n					\n				\n		\n					\n		\n		\n				\n		\n				\n				\n					\n			\n		Kitchen + Tap Room	\n				\n		Open Daily			\n			\n				\n				\n				\n				\n					\n								Blake’s Backyard is the perfect place to grab a pint\, a bite to eat\, and relax with friends. The Blake’s recipe you know\, now in your backyard. \n	\n				\n				\n				\n				\n					\n	Plan Your Visit
URL:https://blakefarms.com/event/christmas-trees/
LOCATION:Blake’s Orchard & Cider Mill\, 17985 Armada Center Rd\, Armada\, MI\, 48005\, United States
CATEGORIES:Blake's Backyard,Blake's Orchard & Cider Mill
END:VEVENT
END:VCALENDAR