BEGIN:VCALENDAR
VERSION:2.0
PRODID:-//Blake Farms - ECPv6.15.16.1//NONSGML v1.0//EN
CALSCALE:GREGORIAN
METHOD:PUBLISH
X-WR-CALNAME:Blake Farms
X-ORIGINAL-URL:https://blakefarms.com
X-WR-CALDESC:Events for Blake Farms
REFRESH-INTERVAL;VALUE=DURATION:PT1H
X-Robots-Tag:noindex
X-PUBLISHED-TTL:PT1H
BEGIN:VTIMEZONE
TZID:America/Detroit
BEGIN:DAYLIGHT
TZOFFSETFROM:-0500
TZOFFSETTO:-0400
TZNAME:EDT
DTSTART:20240310T070000
END:DAYLIGHT
BEGIN:STANDARD
TZOFFSETFROM:-0400
TZOFFSETTO:-0500
TZNAME:EST
DTSTART:20241103T060000
END:STANDARD
BEGIN:DAYLIGHT
TZOFFSETFROM:-0500
TZOFFSETTO:-0400
TZNAME:EDT
DTSTART:20250309T070000
END:DAYLIGHT
BEGIN:STANDARD
TZOFFSETFROM:-0400
TZOFFSETTO:-0500
TZNAME:EST
DTSTART:20251102T060000
END:STANDARD
BEGIN:DAYLIGHT
TZOFFSETFROM:-0500
TZOFFSETTO:-0400
TZNAME:EDT
DTSTART:20260308T070000
END:DAYLIGHT
BEGIN:STANDARD
TZOFFSETFROM:-0400
TZOFFSETTO:-0500
TZNAME:EST
DTSTART:20261101T060000
END:STANDARD
END:VTIMEZONE
BEGIN:VEVENT
DTSTART;TZID=America/Detroit:20251031T170000
DTEND;TZID=America/Detroit:20251031T230000
DTSTAMP:20260422T095626
CREATED:20251013T155200Z
LAST-MODIFIED:20251013T192230Z
UID:10000485-1761930000-1761951600@blakefarms.com
SUMMARY:Haunted Big Apple Halloween Bash
DESCRIPTION:OCt 31st | Blake’s Big AppleHAUNTED BIG APPLE HALLOWEEN BASHGet ready for a frightfully fun night at Blake’s Haunted Halloween Bash — a night full of costumes\, candy\, and creepy good times for the whole family!Date: Oct 31stTime: 6:00 PM – 11:00pmLocation: Blake’s Big Apple – 71485 North Avenue\, Armada MI 48005Special One-Night Ticket Promo: Combo #3 (All Attractions) – $45 (Reg. $62.95)Haunted Hayride – $20 (Reg. $28.95)Costume Contests – 8:30PM Show off your best Halloween look and compete for spooky prizes! Best Children’s Costume (12 & under) — $25 prizeScariest Costume — $50 prizeBest Couple’s Costume — $50 prizeGrab your bravest friends and join us for a blackout night you won’t forget—if you make it outTrick-or-Treat StationsKids can visit 4–6 themed stations for candy and fun giveaways like stickers and slap bracelets!More Details Entertainment & MoreLive DJ spinning Halloween hitsDrink specials all night longPhoto ops to capture your spooktacular style Don’t miss out on a Halloween night to remember at Blake’s Haunted Big Apple! Costumes encouraged. Fun guaranteed.Purchase Tickets 								\n				\n					\n				\n		\n					\n		\n		\n				\n		\n				\n				\n					\n			\n		Haunted Attractions	\n				\n		OPEN FRIDAY - SUNDAY			\n			\n				\n				\n				\n				\n					\n								Blake's Haunted Attractions offer a spine-chilling experience like no other! Featuring the haunted hayride\, 3-story haunted barn\, zombie paintball and Spookyland. Blake’s is the ultimate destination for thrill-seekers and Halloween lovers.  \n	\n				\n				\n				\n				\n					\n	Learn More\n    \n\n				\n				\n				\n				\n					\n	Visit Blake's Big Apple
URL:https://blakefarms.com/event/big-apple-halloween/
LOCATION:Blake’s Big Apple\, 71485 North Ave\, Armada\, MI\, 48005\, United States
CATEGORIES:Big Apple
ATTACH;FMTTYPE=image/jpeg:https://blakefarms.com/wp-content/uploads/2025/10/557934075_1186958826812744_3964501229319513556_n.jpg
END:VEVENT
BEGIN:VEVENT
DTSTART;VALUE=DATE:20251027
DTEND;VALUE=DATE:20251110
DTSTAMP:20260422T095626
CREATED:20241018T193051Z
LAST-MODIFIED:20251030T181121Z
UID:10000046-1761523200-1762732799@blakefarms.com
SUMMARY:Customer Appreciation Week
DESCRIPTION:OCt 31st | Blake’s Big AppleHAUNTED BIG APPLE HALLOWEEN BASHGet ready for a frightfully fun night at Blake’s Haunted Halloween Bash — a night full of costumes\, candy\, and creepy good times for the whole family!Date: Oct 31stTime: 6:00 PM – 11:00pmLocation: Blake’s Big Apple – 71485 North Avenue\, Armada MI 48005Special One-Night Ticket Promo: Combo #3 (All Attractions) – $45 (Reg. $62.95)Haunted Hayride – $20 (Reg. $28.95)Costume Contests – 8:30PM Show off your best Halloween look and compete for spooky prizes! Best Children’s Costume (12 & under) — $25 prizeScariest Costume — $50 prizeBest Couple’s Costume — $50 prizeGrab your bravest friends and join us for a blackout night you won’t forget—if you make it outTrick-or-Treat StationsKids can visit 4–6 themed stations for candy and fun giveaways like stickers and slap bracelets!More Details Entertainment & MoreLive DJ spinning Halloween hitsDrink specials all night longPhoto ops to capture your spooktacular style Don’t miss out on a Halloween night to remember at Blake’s Haunted Big Apple! Costumes encouraged. Fun guaranteed.Purchase Tickets 								\n				\n					\n				\n		\n					\n		\n		\n				\n		\n				\n				\n					\n			\n		Haunted Attractions	\n				\n		OPEN FRIDAY - SUNDAY			\n			\n				\n				\n				\n				\n					\n								Blake's Haunted Attractions offer a spine-chilling experience like no other! Featuring the haunted hayride\, 3-story haunted barn\, zombie paintball and Spookyland. Blake’s is the ultimate destination for thrill-seekers and Halloween lovers.  \n	\n				\n				\n				\n				\n					\n	Learn More\n    \n\n				\n				\n				\n				\n					\n	Visit Blake's Big Apple
URL:https://blakefarms.com/event/customer-appreciation/
LOCATION:Blake’s Backyard\, 5590 Van Dyke\, Almont\, MI\, 48003\, United States
CATEGORIES:Big Apple,Blake's Backyard,Blake's Orchard & Cider Mill,Blake's Tasting Room,South Lyon
ATTACH;FMTTYPE=image/jpeg:https://blakefarms.com/wp-content/uploads/2024/10/BF_2023-Customer-Appreciation-Facebook2.jpg
END:VEVENT
BEGIN:VEVENT
DTSTART;TZID=America/Detroit:20251003T170000
DTEND;TZID=America/Detroit:20251003T220000
DTSTAMP:20260422T095626
CREATED:20250908T201544Z
LAST-MODIFIED:20251002T000702Z
UID:10000483-1759510800-1759528800@blakefarms.com
SUMMARY:Blake's Haunted Night Market
DESCRIPTION:OCt 31st | Blake’s Big AppleHAUNTED BIG APPLE HALLOWEEN BASHGet ready for a frightfully fun night at Blake’s Haunted Halloween Bash — a night full of costumes\, candy\, and creepy good times for the whole family!Date: Oct 31stTime: 6:00 PM – 11:00pmLocation: Blake’s Big Apple – 71485 North Avenue\, Armada MI 48005Special One-Night Ticket Promo: Combo #3 (All Attractions) – $45 (Reg. $62.95)Haunted Hayride – $20 (Reg. $28.95)Costume Contests – 8:30PM Show off your best Halloween look and compete for spooky prizes! Best Children’s Costume (12 & under) — $25 prizeScariest Costume — $50 prizeBest Couple’s Costume — $50 prizeGrab your bravest friends and join us for a blackout night you won’t forget—if you make it outTrick-or-Treat StationsKids can visit 4–6 themed stations for candy and fun giveaways like stickers and slap bracelets!More Details Entertainment & MoreLive DJ spinning Halloween hitsDrink specials all night longPhoto ops to capture your spooktacular style Don’t miss out on a Halloween night to remember at Blake’s Haunted Big Apple! Costumes encouraged. Fun guaranteed.Purchase Tickets 								\n				\n					\n				\n		\n					\n		\n		\n				\n		\n				\n				\n					\n			\n		Haunted Attractions	\n				\n		OPEN FRIDAY - SUNDAY			\n			\n				\n				\n				\n				\n					\n								Blake's Haunted Attractions offer a spine-chilling experience like no other! Featuring the haunted hayride\, 3-story haunted barn\, zombie paintball and Spookyland. Blake’s is the ultimate destination for thrill-seekers and Halloween lovers.  \n	\n				\n				\n				\n				\n					\n	Learn More\n    \n\n				\n				\n				\n				\n					\n	Visit Blake's Big Apple
URL:https://blakefarms.com/event/haunted-night-market/
LOCATION:Blake’s Big Apple\, 71485 North Ave\, Armada\, MI\, 48005\, United States
CATEGORIES:Big Apple
ATTACH;FMTTYPE=image/png:https://blakefarms.com/wp-content/uploads/2025/09/Screenshot-2025-09-09-at-9.50.45-AM.png
END:VEVENT
BEGIN:VEVENT
DTSTART;TZID=America/Detroit:20250919T143000
DTEND;TZID=America/Detroit:20250919T190000
DTSTAMP:20260422T095626
CREATED:20240523T031552Z
LAST-MODIFIED:20250818T145229Z
UID:10000009-1758292200-1758308400@blakefarms.com
SUMMARY:Monster Dash 5K
DESCRIPTION:OCt 31st | Blake’s Big AppleHAUNTED BIG APPLE HALLOWEEN BASHGet ready for a frightfully fun night at Blake’s Haunted Halloween Bash — a night full of costumes\, candy\, and creepy good times for the whole family!Date: Oct 31stTime: 6:00 PM – 11:00pmLocation: Blake’s Big Apple – 71485 North Avenue\, Armada MI 48005Special One-Night Ticket Promo: Combo #3 (All Attractions) – $45 (Reg. $62.95)Haunted Hayride – $20 (Reg. $28.95)Costume Contests – 8:30PM Show off your best Halloween look and compete for spooky prizes! Best Children’s Costume (12 & under) — $25 prizeScariest Costume — $50 prizeBest Couple’s Costume — $50 prizeGrab your bravest friends and join us for a blackout night you won’t forget—if you make it outTrick-or-Treat StationsKids can visit 4–6 themed stations for candy and fun giveaways like stickers and slap bracelets!More Details Entertainment & MoreLive DJ spinning Halloween hitsDrink specials all night longPhoto ops to capture your spooktacular style Don’t miss out on a Halloween night to remember at Blake’s Haunted Big Apple! Costumes encouraged. Fun guaranteed.Purchase Tickets 								\n				\n					\n				\n		\n					\n		\n		\n				\n		\n				\n				\n					\n			\n		Haunted Attractions	\n				\n		OPEN FRIDAY - SUNDAY			\n			\n				\n				\n				\n				\n					\n								Blake's Haunted Attractions offer a spine-chilling experience like no other! Featuring the haunted hayride\, 3-story haunted barn\, zombie paintball and Spookyland. Blake’s is the ultimate destination for thrill-seekers and Halloween lovers.  \n	\n				\n				\n				\n				\n					\n	Learn More\n    \n\n				\n				\n				\n				\n					\n	Visit Blake's Big Apple
URL:https://blakefarms.com/event/monster-dash-5k/
LOCATION:Blake’s Big Apple\, 71485 North Ave\, Armada\, MI\, 48005\, United States
CATEGORIES:5k,Big Apple
ATTACH;FMTTYPE=image/jpeg:https://blakefarms.com/wp-content/uploads/2024/05/monster-dash-16.9.jpg
END:VEVENT
BEGIN:VEVENT
DTSTART;TZID=America/Detroit:20250614T060000
DTEND;TZID=America/Detroit:20250615T140000
DTSTAMP:20260422T095626
CREATED:20240523T035841Z
LAST-MODIFIED:20250610T210104Z
UID:10000010-1749880800-1749996000@blakefarms.com
SUMMARY:Big Berry BBQ
DESCRIPTION:OCt 31st | Blake’s Big AppleHAUNTED BIG APPLE HALLOWEEN BASHGet ready for a frightfully fun night at Blake’s Haunted Halloween Bash — a night full of costumes\, candy\, and creepy good times for the whole family!Date: Oct 31stTime: 6:00 PM – 11:00pmLocation: Blake’s Big Apple – 71485 North Avenue\, Armada MI 48005Special One-Night Ticket Promo: Combo #3 (All Attractions) – $45 (Reg. $62.95)Haunted Hayride – $20 (Reg. $28.95)Costume Contests – 8:30PM Show off your best Halloween look and compete for spooky prizes! Best Children’s Costume (12 & under) — $25 prizeScariest Costume — $50 prizeBest Couple’s Costume — $50 prizeGrab your bravest friends and join us for a blackout night you won’t forget—if you make it outTrick-or-Treat StationsKids can visit 4–6 themed stations for candy and fun giveaways like stickers and slap bracelets!More Details Entertainment & MoreLive DJ spinning Halloween hitsDrink specials all night longPhoto ops to capture your spooktacular style Don’t miss out on a Halloween night to remember at Blake’s Haunted Big Apple! Costumes encouraged. Fun guaranteed.Purchase Tickets 								\n				\n					\n				\n		\n					\n		\n		\n				\n		\n				\n				\n					\n			\n		Haunted Attractions	\n				\n		OPEN FRIDAY - SUNDAY			\n			\n				\n				\n				\n				\n					\n								Blake's Haunted Attractions offer a spine-chilling experience like no other! Featuring the haunted hayride\, 3-story haunted barn\, zombie paintball and Spookyland. Blake’s is the ultimate destination for thrill-seekers and Halloween lovers.  \n	\n				\n				\n				\n				\n					\n	Learn More\n    \n\n				\n				\n				\n				\n					\n	Visit Blake's Big Apple
URL:https://blakefarms.com/event/big-berry-bbq/
LOCATION:Blake’s Big Apple\, 71485 North Ave\, Armada\, MI\, 48005\, United States
CATEGORIES:Big Apple
ATTACH;FMTTYPE=image/jpeg:https://blakefarms.com/wp-content/uploads/2024/05/BBA_2024-Strawberry-Social-facebook-event.jpg
END:VEVENT
END:VCALENDAR