BEGIN:VCALENDAR
VERSION:2.0
PRODID:-//Blake Farms - ECPv6.15.16.1//NONSGML v1.0//EN
CALSCALE:GREGORIAN
METHOD:PUBLISH
X-ORIGINAL-URL:https://blakefarms.com
X-WR-CALDESC:Events for Blake Farms
REFRESH-INTERVAL;VALUE=DURATION:PT1H
X-Robots-Tag:noindex
X-PUBLISHED-TTL:PT1H
BEGIN:VTIMEZONE
TZID:America/Detroit
BEGIN:DAYLIGHT
TZOFFSETFROM:-0500
TZOFFSETTO:-0400
TZNAME:EDT
DTSTART:20240310T070000
END:DAYLIGHT
BEGIN:STANDARD
TZOFFSETFROM:-0400
TZOFFSETTO:-0500
TZNAME:EST
DTSTART:20241103T060000
END:STANDARD
BEGIN:DAYLIGHT
TZOFFSETFROM:-0500
TZOFFSETTO:-0400
TZNAME:EDT
DTSTART:20250309T070000
END:DAYLIGHT
BEGIN:STANDARD
TZOFFSETFROM:-0400
TZOFFSETTO:-0500
TZNAME:EST
DTSTART:20251102T060000
END:STANDARD
BEGIN:DAYLIGHT
TZOFFSETFROM:-0500
TZOFFSETTO:-0400
TZNAME:EDT
DTSTART:20260308T070000
END:DAYLIGHT
BEGIN:STANDARD
TZOFFSETFROM:-0400
TZOFFSETTO:-0500
TZNAME:EST
DTSTART:20261101T060000
END:STANDARD
END:VTIMEZONE
BEGIN:VEVENT
DTSTART;TZID=America/Detroit:20251122T093000
DTEND;TZID=America/Detroit:20251122T120000
DTSTAMP:20260422T224454
CREATED:20241010T095726Z
LAST-MODIFIED:20251013T190845Z
UID:10000039-1763803800-1763812800@blakefarms.com
SUMMARY:Holiday Hustle 5K
DESCRIPTION:Get ready to jingle all the way at our jolly Holiday Hustle 5K Fun Run & Walk and kick off the start to the holiday season with us!
URL:https://blakefarms.com/event/holiday-hustle-5k/
LOCATION:Blake’s Orchard & Cider Mill\, 17985 Armada Center Rd\, Armada\, MI\, 48005\, United States
CATEGORIES:5k,Blake's Orchard & Cider Mill
ATTACH;FMTTYPE=image/jpeg:https://blakefarms.com/wp-content/uploads/2024/10/BF_2024-Holiday-Hustle-5K-Paid-02-1.jpg
END:VEVENT
BEGIN:VEVENT
DTSTART;TZID=America/Detroit:20250919T143000
DTEND;TZID=America/Detroit:20250919T190000
DTSTAMP:20260422T224454
CREATED:20240523T031552Z
LAST-MODIFIED:20250818T145229Z
UID:10000009-1758292200-1758308400@blakefarms.com
SUMMARY:Monster Dash 5K
DESCRIPTION:« All Events \n \nblake’s big apple\n5k run/walk\nSeptember 20\, 2024 ~ 6:30pm\nregistration now open\nScare up some fun with this Halloween themed 5k run & walk.\nThis is a great\, wear-a-costume 5k for all ages! Blake’s Monster Dash is a 5k run on gravel trails around the family-owned 800-acre Blake Farm. The 5k race will take you through our haunted hayride and zombie paintball scenes with live actors. This haunted Halloween run will include a donut\, glass of hard or sweet cider\, t-shirt\, small pie pumpkin and admission to our Spookyland area after the race featuring a corn maze\, 3D barn\, live actors\, Halloween themed movies\, and animated attractions. \n\nregister here \n  \ntickets include\n\n\n\n\n \nt-shirt\nGLASS OF SWEET CIDER OR BLAKE’S HARD CIDER\nADMISSION TO SPOOKYLAND\nONE DONUT\nSMALL PIE PUMPKIN\ntickets include\n\n\n \nt-shirt\nGLASS OF SWEET CIDER OR BLAKE’S HARD CIDER\nADMISSION TO SPOOKYLAND\n\n \nONE DONUT\nSMALL PIE PUMPKIN\ntickets include\n \nt-shirt\n \nGLASS OF SWEET CIDER OR BLAKE’S HARD CIDER\n \nADMISSION TO SPOOKYLAND\n \nONE DONUT\n \nSMALL PIE PUMPKIN\nCostumes are highly encouraged and open to all ages!\nBlake’s Big Apple will be open until 11:00pm for all Haunted Activities including Spookyland\, Haunted Hayrides\, Three Story Haunted Barn and Zombie Paintball! Costumes are highly encouraged. Strollers are permitted at your own discretion as the run will be on gravel. Pets are not permitted. \n\nregister here \n \nmonster dash\nFAQ\nWhat’s included?\n\nCommemorative T-Shirt\nAfter Race Donut\nAfter Race Can of Hard Cider  OR Sweet Cider for participants under 21\nSmall Pie Pumpkin\nAdmission to Spookyland – featuring a corn maze\, 3D barn\, live actors\, Halloween themed movies\, and animated attractions\n\n\nWho can participate?\nBlake’s Monster Dash is open for children and adults of any age. Participants under the age of 21 can enjoy a glass of sweet apple cider following the race. Strollers are permitted but at your own risk as the entire course is gravel/grass. Pets are not permitted. \nHow much does it cost?\nBUNDLE & SAVE!\n\nRegister for 2 or more races and save 15% per event!\n\nRACE PRICING\n$38  per person – Early Bird through August 29th$45 per person – Regular Admission August 30th  – September 19th$50 per person – Day of Registration \nPacket Pick Up\nSaturday September 19th | 5:00pm – 7:00pm \n\nEnter to win a $100 Blake’s Gift Card when you pick up on Thursday\n\nSunday\, September 20th | 4:00pm – 6:00pm \n\nAll participants must be registered and checked in 30 minutes prior to the start of the race\nWe recommend arriving at least 45 minutes early to allow ample time for parking and registration.\n\nPrizes\n\n1st Place Overall Male & Female \n\n$50 Blake’s Gift Card & Gift Certificate for Private Zombie Truck\n\n2nd Place Overall Male & Female \n\n$50 Blake’s Gift Card\n\n3rd Place Overall Male & Female  \n\n$25 Blake’s Gift Card\n\nAge Categories: 14 and under\, 15-19\, 20-24\, 25-29\, 30-34\, 35-39\, 40-44\, 45-49\, 50-54\, 55-59\, 60-64\, 65-69\, 70+ 1st Place Age Category Male & Female  \n\n $20 Blake’s Gift Card\n\n2nd Place Age Category Male & Female  \n\n$10 Blake’s Gift Card\n\n\n\nRefund Information\nAll entries are final and there are no refunds.If the event is cancelled because of weather\, natural disaster\, global pandemic\, governmental or court order or any other reason\, refunds will not be given.If possible the event will be postponed and your entry will be transferred to the new date. Participants will also have the option not defer their registration to a future Blake’s 5k in the case of a cancellation. \nParticipants unable to participate are welcome to pick up their runner packet\, shirt & swag at the packet pick-up.
URL:https://blakefarms.com/event/monster-dash-5k/
LOCATION:Blake’s Big Apple\, 71485 North Ave\, Armada\, MI\, 48005\, United States
CATEGORIES:5k,Big Apple
ATTACH;FMTTYPE=image/jpeg:https://blakefarms.com/wp-content/uploads/2024/05/monster-dash-16.9.jpg
END:VEVENT
BEGIN:VEVENT
DTSTART;TZID=America/Detroit:20250912T143000
DTEND;TZID=America/Detroit:20250912T170000
DTSTAMP:20260422T224455
CREATED:20240523T013628Z
LAST-MODIFIED:20250829T152451Z
UID:10000008-1757687400-1757696400@blakefarms.com
SUMMARY:Donut Dash 5K
DESCRIPTION:« All Events\n \n																														 \n\n		DONUT DASH 5K FUN RUN	\n\n		September 8 ~ 9:00am	\n\n					\n												61475 Silver Lake Rd\, South Lyon\, MI 48178\n					\n			 \n					\n	register here\n    \n\n																														 \n\n		celebrate the fall	\n\n		Dash into Fall Fun at Blake’s Lyon Township!	\nGet ready for the ultimate autumn adventure with our BRAND NEW 5K for all ages! Lace up your running shoes and join us as we race through the scenic family-owned 50-acre orchard on gravel trails. \nWhat’s in store for you? Well\, besides the thrill of the run\, you’ll get to enjoy a delicious donut and quench your thirst with your choice of hard or sweet cider! Plus\, you’ll walk away with a cool t-shirt and a commemorative glass to remember this fun run. \nBlake’s Lyon Township will also be serving up your favorite fall items from 8:00am – 8:00pm. U-Pick Apples will open following the race at 11:00am \nStrollers are permitted at your own discretion as the run will be on gravel. \nMark your calendars\, invite your friends\, and let’s make memories together at Blake’s Lyon Township’s first annual Donut Dash 5K Fun Run! See you there! \n					\n	register here\n    \n \n\n		DONUT DASH 5K FUN RUN	\n\n		tickets include	\n															\n															\n															\n																														 \n\n		donut dash 5k	\n\n		FAQ	\n\n	What's included?\n		\n		\n\n\nCommemorative T-Shirt\nAfter Race Donut\nAfter Race Can of Hard Cider  OR Sweet Cider for participants under 21\nCommemorative Race Glass\n\n\n	Who can participate?\n		\n		\n\nBlake’s Fall 5k is open for children and adults of any age. Participants under the age of 21 can enjoy a glass of sweet apple cider following the race. Strollers are permitted but at your own risk as the entire course is gravel/grass. Pets are not permitted. \n\n	How much does it cost?\n		\n		\n\nBUNDLE & SAVE!\n\nRegister for 2 or more races and save 15% per event! \n\nRACE PRICING \n$38  per person – Early Bird through August 29th$45 per person – Regular Admission August 30th  – September 7th$50 per person – Day of Registration	 \n\n	Packet Pick Up\n		\n		\n\n		Saturday September 7th | 5:00pm – 8:00pm \n\nEnter to win a $100 Blake’s Gift Card when you pick up on Thursday\n\nSunday\, September 8th | 7:00am – 8:30am \n\nAll participants must be registered and checked in 30 minutes prior to the start of the race\nWe recommend arriving at least 45 minutes early to allow ample time for parking and registration. \n\n\n	Prizes\n		\n		\n\n\n1st Place Overall Male & Female $100 Blake’s Gift Card\, Prize Bag\n2nd Place Overall Male & Female $75 Blake’s Gift Card & Prize Bag\n3rd Place Overall Male & Female $50 Blake’s Gift Card & Prize Bag\n\nAge Category Prizes \n\n1st Place Age Category Male & Female  $20 Blake’s Gift Card & Prize Bag\n2nd Place Age Category Male & Female $10 Blake’s Gift Card & Prize Bag\nAge categories: 14 and under\, 15 to 19\, 20 to 24\, 25 to 29\, 30 to 34\, 35 to 39\, 40 to 44\, 45 to 49\, 50 to 54\, 55 to 59\, 60 to 64\, 65 to 69\, 70 and over\n\n\n	Additonal Information\n		\n		\n\nFor additional information or questions please email events@blakefarms.com  \n\n	Refund Information\n		\n		\n\nAll entries are final and there are no refunds.If the event is cancelled because of weather\, natural disaster\, global pandemic\, governmental or court order or any other reason\, refunds will not be given.If possible the event will be postponed and your entry will be transferred to the new date. Participants will also have the option not defer their registration to a future Blake’s 5k in the case of a cancellation. \nParticipants unable to participate are welcome to pick up their runner packet\, shirt & swag at the packet pick-up. \n\n\n\n\n				Blake's Backyard Book Club	\n\n\n	\n		Tales & Cocktails: A Guided Mixology Class
URL:https://blakefarms.com/event/donut-dash-5k/
LOCATION:Lyon Twp\, 61475 Silver Lake Road\, South Lyon\, 48178\, United States
CATEGORIES:5k,South Lyon
ATTACH;FMTTYPE=image/jpeg:https://blakefarms.com/wp-content/uploads/2024/05/cropped-SL_2023-Donut-Dash-5K-15-scaled.jpg
END:VEVENT
BEGIN:VEVENT
DTSTART;TZID=America/Detroit:20250503T120000
DTEND;TZID=America/Detroit:20250503T160000
DTSTAMP:20260422T224455
CREATED:20250121T100603Z
LAST-MODIFIED:20250128T204511Z
UID:10000068-1746273600-1746288000@blakefarms.com
SUMMARY:Chasing El Chavo 5k
DESCRIPTION:This event is perfect for runners and walkers of all levels\, offering a fun and festive atmosphere as you race through the gravel trails of our family-owned orchard. Whether you’re chasing down the finish line or just enjoying a scenic stroll\, the stunning orchard views and vibrant vibe will keep you energized every step of the way.
URL:https://blakefarms.com/event/chasing-el-chavo-5k/
LOCATION:MI
CATEGORIES:5k,Blake's Orchard & Cider Mill
ATTACH;FMTTYPE=image/jpeg:https://blakefarms.com/wp-content/uploads/2025/01/BF_2023-Chasing-El-Chavo-010-scaled.jpeg
END:VEVENT
END:VCALENDAR