BEGIN:VCALENDAR
VERSION:2.0
PRODID:-//Blake Farms - ECPv6.15.16.1//NONSGML v1.0//EN
CALSCALE:GREGORIAN
METHOD:PUBLISH
X-ORIGINAL-URL:https://blakefarms.com
X-WR-CALDESC:Events for Blake Farms
REFRESH-INTERVAL;VALUE=DURATION:PT1H
X-Robots-Tag:noindex
X-PUBLISHED-TTL:PT1H
BEGIN:VTIMEZONE
TZID:America/Detroit
BEGIN:DAYLIGHT
TZOFFSETFROM:-0500
TZOFFSETTO:-0400
TZNAME:EDT
DTSTART:20250309T070000
END:DAYLIGHT
BEGIN:STANDARD
TZOFFSETFROM:-0400
TZOFFSETTO:-0500
TZNAME:EST
DTSTART:20251102T060000
END:STANDARD
BEGIN:DAYLIGHT
TZOFFSETFROM:-0500
TZOFFSETTO:-0400
TZNAME:EDT
DTSTART:20260308T070000
END:DAYLIGHT
BEGIN:STANDARD
TZOFFSETFROM:-0400
TZOFFSETTO:-0500
TZNAME:EST
DTSTART:20261101T060000
END:STANDARD
BEGIN:DAYLIGHT
TZOFFSETFROM:-0500
TZOFFSETTO:-0400
TZNAME:EDT
DTSTART:20270314T070000
END:DAYLIGHT
BEGIN:STANDARD
TZOFFSETFROM:-0400
TZOFFSETTO:-0500
TZNAME:EST
DTSTART:20271107T060000
END:STANDARD
END:VTIMEZONE
BEGIN:VEVENT
DTSTART;TZID=America/Detroit:20260423T040000
DTEND;TZID=America/Detroit:20260529T160000
DTSTAMP:20260425T120434
CREATED:20250514T010447Z
LAST-MODIFIED:20260422T145039Z
UID:10000097-1776916800-1780070400@blakefarms.com
SUMMARY:Blake's In Bloom | Tulips\, Apple Blossoms and Flowers
DESCRIPTION:  Blake’s Backyard | May 10th | 9am – 3pmMother’s Day BrunchA Spring-Inspired Brunch Experience to Celebrate MomSpend Mother’s Day at Blake’s Backyard\, where the space comes to life with the brightness of the season—filled with natural light\, fresh blooms\, and an atmosphere that feels both relaxed and refined. This brunch experience is designed to create an easy\, meaningful setting for time well spent together. Our menu brings together seasonal ingredients\, elevated brunch favorites\, and refreshing cocktails\, offering a balance of comfort and flavor in every course. It’s a setting that invites you to linger a little longer\, enjoy each bite\, and focus on the moment. Seating is limited and reservations are encouraged. Join us for a Mother’s Day celebration that feels thoughtful\, effortless\, and worth slowing down for.  								\n				\n				\n				\n					\n	Make your Reservation
URL:https://blakefarms.com/event/blakes-in-bloom/
LOCATION:Blake’s Orchard & Cider Mill\, 17985 Armada Center Rd\, Armada\, MI\, 48005\, United States
ATTACH;FMTTYPE=image/jpeg:https://blakefarms.com/wp-content/uploads/2025/05/2025_Blakes-in-Bloom_Tulips28-copy-scaled.jpg
END:VEVENT
END:VCALENDAR